BEGIN:VCALENDAR
VERSION:2.0
PRODID:https://www.kufer.de/kuferweb / DE
METHOD:PUBLISH
CALSCALE:GREGORIAN
X-WR-TIMEZONE:Europe/Berlin
BEGIN:VTIMEZONE
TZID:Europe/Berlin
X-LIC-LOCATION:Europe/Berlin
BEGIN:DAYLIGHT
TZOFFSETFROM:+0100
TZOFFSETTO:+0200
TZNAME:CEST
DTSTART:19700329T020000
RRULE:FREQ=YEARLY;INTERVAL=1;BYDAY=-1SU;BYMONTH=3
END:DAYLIGHT
BEGIN:STANDARD
TZOFFSETFROM:+0200
TZOFFSETTO:+0100
TZNAME:CET
DTSTART:19701025T030000
RRULE:FREQ=YEARLY;INTERVAL=1;BYDAY=-1SU;BYMONTH=10
END:STANDARD
END:VTIMEZONE
BEGIN:VEVENT
DTSTAMP:20260421T142054
DTSTART;TZID=Europe/Berlin:20260302T194500
DTEND;TZID=Europe/Berlin:20260302T204500
UID:V24535021-20260302T194500@VHSBÖBLINGEN-SINDELFINGEN
SUMMARY:Folk-, Ragtime-, Klassik-Gitarre Gemeinsam in die Saiten greifen (V24535021) 
LOCATION:HO, Turmstraße 14, ___, Turmstr. 14, 71088 Holzgerlingen
END:VEVENT
BEGIN:VEVENT
DTSTAMP:20260421T142054
DTSTART;TZID=Europe/Berlin:20260323T194500
DTEND;TZID=Europe/Berlin:20260323T204500
UID:V24535021-20260323T194500@VHSBÖBLINGEN-SINDELFINGEN
SUMMARY:Folk-, Ragtime-, Klassik-Gitarre Gemeinsam in die Saiten greifen (V24535021) 
LOCATION:HO, Turmstraße 14, ___, Turmstr. 14, 71088 Holzgerlingen
END:VEVENT
BEGIN:VEVENT
DTSTAMP:20260421T142054
DTSTART;TZID=Europe/Berlin:20260413T194500
DTEND;TZID=Europe/Berlin:20260413T204500
UID:V24535021-20260413T194500@VHSBÖBLINGEN-SINDELFINGEN
SUMMARY:Folk-, Ragtime-, Klassik-Gitarre Gemeinsam in die Saiten greifen (V24535021) 
LOCATION:HO, Turmstraße 14, ___, Turmstr. 14, 71088 Holzgerlingen
END:VEVENT
BEGIN:VEVENT
DTSTAMP:20260421T142054
DTSTART;TZID=Europe/Berlin:20260511T194500
DTEND;TZID=Europe/Berlin:20260511T204500
UID:V24535021-20260511T194500@VHSBÖBLINGEN-SINDELFINGEN
SUMMARY:Folk-, Ragtime-, Klassik-Gitarre Gemeinsam in die Saiten greifen (V24535021) 
LOCATION:HO, Turmstraße 14, ___, Turmstr. 14, 71088 Holzgerlingen
END:VEVENT
BEGIN:VEVENT
DTSTAMP:20260421T142054
DTSTART;TZID=Europe/Berlin:20260608T194500
DTEND;TZID=Europe/Berlin:20260608T204500
UID:V24535021-20260608T194500@VHSBÖBLINGEN-SINDELFINGEN
SUMMARY:Folk-, Ragtime-, Klassik-Gitarre Gemeinsam in die Saiten greifen (V24535021) 
LOCATION:HO, Turmstraße 14, ___, Turmstr. 14, 71088 Holzgerlingen
END:VEVENT
BEGIN:VEVENT
DTSTAMP:20260421T142054
DTSTART;TZID=Europe/Berlin:20260706T194500
DTEND;TZID=Europe/Berlin:20260706T204500
UID:V24535021-20260706T194500@VHSBÖBLINGEN-SINDELFINGEN
SUMMARY:Folk-, Ragtime-, Klassik-Gitarre Gemeinsam in die Saiten greifen (V24535021) 
LOCATION:HO, Turmstraße 14, ___, Turmstr. 14, 71088 Holzgerlingen
END:VEVENT
BEGIN:VEVENT
DTSTAMP:20260421T142054
DTSTART;TZID=Europe/Berlin:20260727T194500
DTEND;TZID=Europe/Berlin:20260727T204500
UID:V24535021-20260727T194500@VHSBÖBLINGEN-SINDELFINGEN
SUMMARY:Folk-, Ragtime-, Klassik-Gitarre Gemeinsam in die Saiten greifen (V24535021) 
LOCATION:HO, Turmstraße 14, ___, Turmstr. 14, 71088 Holzgerlingen
END:VEVENT
END:VCALENDAR