BEGIN:VCALENDAR
VERSION:2.0
PRODID:https://www.kufer.de/kuferweb / DE
METHOD:PUBLISH
CALSCALE:GREGORIAN
X-WR-TIMEZONE:Europe/Berlin
BEGIN:VTIMEZONE
TZID:Europe/Berlin
X-LIC-LOCATION:Europe/Berlin
BEGIN:DAYLIGHT
TZOFFSETFROM:+0100
TZOFFSETTO:+0200
TZNAME:CEST
DTSTART:19700329T020000
RRULE:FREQ=YEARLY;INTERVAL=1;BYDAY=-1SU;BYMONTH=3
END:DAYLIGHT
BEGIN:STANDARD
TZOFFSETFROM:+0200
TZOFFSETTO:+0100
TZNAME:CET
DTSTART:19701025T030000
RRULE:FREQ=YEARLY;INTERVAL=1;BYDAY=-1SU;BYMONTH=10
END:STANDARD
END:VTIMEZONE
BEGIN:VEVENT
DTSTAMP:20260420T182207
DTSTART;TZID=Europe/Berlin:20260225T213000
DTEND;TZID=Europe/Berlin:20260225T221500
UID:V24531210-20260225T213000@VHSBÖBLINGEN-SINDELFINGEN
SUMMARY:Rock-, Pop-, Blues-Gitarre (V24531210) 
LOCATION:vhs.Studio, Pestalozzistr. 4, 71032 Böblingen
END:VEVENT
BEGIN:VEVENT
DTSTAMP:20260420T182207
DTSTART;TZID=Europe/Berlin:20260304T213000
DTEND;TZID=Europe/Berlin:20260304T221500
UID:V24531210-20260304T213000@VHSBÖBLINGEN-SINDELFINGEN
SUMMARY:Rock-, Pop-, Blues-Gitarre (V24531210) 
LOCATION:vhs.Studio, Pestalozzistr. 4, 71032 Böblingen
END:VEVENT
BEGIN:VEVENT
DTSTAMP:20260420T182207
DTSTART;TZID=Europe/Berlin:20260311T213000
DTEND;TZID=Europe/Berlin:20260311T221500
UID:V24531210-20260311T213000@VHSBÖBLINGEN-SINDELFINGEN
SUMMARY:Rock-, Pop-, Blues-Gitarre (V24531210) 
LOCATION:vhs.Studio, Pestalozzistr. 4, 71032 Böblingen
END:VEVENT
BEGIN:VEVENT
DTSTAMP:20260420T182207
DTSTART;TZID=Europe/Berlin:20260318T213000
DTEND;TZID=Europe/Berlin:20260318T221500
UID:V24531210-20260318T213000@VHSBÖBLINGEN-SINDELFINGEN
SUMMARY:Rock-, Pop-, Blues-Gitarre (V24531210) 
LOCATION:vhs.Studio, Pestalozzistr. 4, 71032 Böblingen
END:VEVENT
BEGIN:VEVENT
DTSTAMP:20260420T182207
DTSTART;TZID=Europe/Berlin:20260325T213000
DTEND;TZID=Europe/Berlin:20260325T221500
UID:V24531210-20260325T213000@VHSBÖBLINGEN-SINDELFINGEN
SUMMARY:Rock-, Pop-, Blues-Gitarre (V24531210) 
LOCATION:vhs.Studio, Pestalozzistr. 4, 71032 Böblingen
END:VEVENT
BEGIN:VEVENT
DTSTAMP:20260420T182207
DTSTART;TZID=Europe/Berlin:20260415T213000
DTEND;TZID=Europe/Berlin:20260415T221500
UID:V24531210-20260415T213000@VHSBÖBLINGEN-SINDELFINGEN
SUMMARY:Rock-, Pop-, Blues-Gitarre (V24531210) 
LOCATION:vhs.Studio, Pestalozzistr. 4, 71032 Böblingen
END:VEVENT
BEGIN:VEVENT
DTSTAMP:20260420T182207
DTSTART;TZID=Europe/Berlin:20260422T213000
DTEND;TZID=Europe/Berlin:20260422T221500
UID:V24531210-20260422T213000@VHSBÖBLINGEN-SINDELFINGEN
SUMMARY:Rock-, Pop-, Blues-Gitarre (V24531210) 
LOCATION:vhs.Studio, Pestalozzistr. 4, 71032 Böblingen
END:VEVENT
BEGIN:VEVENT
DTSTAMP:20260420T182207
DTSTART;TZID=Europe/Berlin:20260429T213000
DTEND;TZID=Europe/Berlin:20260429T221500
UID:V24531210-20260429T213000@VHSBÖBLINGEN-SINDELFINGEN
SUMMARY:Rock-, Pop-, Blues-Gitarre (V24531210) 
LOCATION:vhs.Studio, Pestalozzistr. 4, 71032 Böblingen
END:VEVENT
BEGIN:VEVENT
DTSTAMP:20260420T182207
DTSTART;TZID=Europe/Berlin:20260506T213000
DTEND;TZID=Europe/Berlin:20260506T221500
UID:V24531210-20260506T213000@VHSBÖBLINGEN-SINDELFINGEN
SUMMARY:Rock-, Pop-, Blues-Gitarre (V24531210) 
LOCATION:vhs.Studio, Pestalozzistr. 4, 71032 Böblingen
END:VEVENT
BEGIN:VEVENT
DTSTAMP:20260420T182207
DTSTART;TZID=Europe/Berlin:20260513T213000
DTEND;TZID=Europe/Berlin:20260513T221500
UID:V24531210-20260513T213000@VHSBÖBLINGEN-SINDELFINGEN
SUMMARY:Rock-, Pop-, Blues-Gitarre (V24531210) 
LOCATION:vhs.Studio, Pestalozzistr. 4, 71032 Böblingen
END:VEVENT
BEGIN:VEVENT
DTSTAMP:20260420T182207
DTSTART;TZID=Europe/Berlin:20260520T213000
DTEND;TZID=Europe/Berlin:20260520T221500
UID:V24531210-20260520T213000@VHSBÖBLINGEN-SINDELFINGEN
SUMMARY:Rock-, Pop-, Blues-Gitarre (V24531210) 
LOCATION:vhs.Studio, Pestalozzistr. 4, 71032 Böblingen
END:VEVENT
BEGIN:VEVENT
DTSTAMP:20260420T182207
DTSTART;TZID=Europe/Berlin:20260610T213000
DTEND;TZID=Europe/Berlin:20260610T221500
UID:V24531210-20260610T213000@VHSBÖBLINGEN-SINDELFINGEN
SUMMARY:Rock-, Pop-, Blues-Gitarre (V24531210) 
LOCATION:vhs.Studio, Pestalozzistr. 4, 71032 Böblingen
END:VEVENT
BEGIN:VEVENT
DTSTAMP:20260420T182207
DTSTART;TZID=Europe/Berlin:20260617T213000
DTEND;TZID=Europe/Berlin:20260617T221500
UID:V24531210-20260617T213000@VHSBÖBLINGEN-SINDELFINGEN
SUMMARY:Rock-, Pop-, Blues-Gitarre (V24531210) 
LOCATION:vhs.Studio, Pestalozzistr. 4, 71032 Böblingen
END:VEVENT
BEGIN:VEVENT
DTSTAMP:20260420T182207
DTSTART;TZID=Europe/Berlin:20260624T213000
DTEND;TZID=Europe/Berlin:20260624T221500
UID:V24531210-20260624T213000@VHSBÖBLINGEN-SINDELFINGEN
SUMMARY:Rock-, Pop-, Blues-Gitarre (V24531210) 
LOCATION:vhs.Studio, Pestalozzistr. 4, 71032 Böblingen
END:VEVENT
BEGIN:VEVENT
DTSTAMP:20260420T182207
DTSTART;TZID=Europe/Berlin:20260701T213000
DTEND;TZID=Europe/Berlin:20260701T221500
UID:V24531210-20260701T213000@VHSBÖBLINGEN-SINDELFINGEN
SUMMARY:Rock-, Pop-, Blues-Gitarre (V24531210) 
LOCATION:vhs.Studio, Pestalozzistr. 4, 71032 Böblingen
END:VEVENT
BEGIN:VEVENT
DTSTAMP:20260420T182207
DTSTART;TZID=Europe/Berlin:20260708T213000
DTEND;TZID=Europe/Berlin:20260708T221500
UID:V24531210-20260708T213000@VHSBÖBLINGEN-SINDELFINGEN
SUMMARY:Rock-, Pop-, Blues-Gitarre (V24531210) 
LOCATION:vhs.Studio, Pestalozzistr. 4, 71032 Böblingen
END:VEVENT
BEGIN:VEVENT
DTSTAMP:20260420T182207
DTSTART;TZID=Europe/Berlin:20260715T213000
DTEND;TZID=Europe/Berlin:20260715T221500
UID:V24531210-20260715T213000@VHSBÖBLINGEN-SINDELFINGEN
SUMMARY:Rock-, Pop-, Blues-Gitarre (V24531210) 
LOCATION:vhs.Studio, Pestalozzistr. 4, 71032 Böblingen
END:VEVENT
END:VCALENDAR