BEGIN:VCALENDAR
VERSION:2.0
PRODID:https://www.kufer.de/kuferweb / DE
METHOD:PUBLISH
CALSCALE:GREGORIAN
X-WR-TIMEZONE:Europe/Berlin
BEGIN:VTIMEZONE
TZID:Europe/Berlin
X-LIC-LOCATION:Europe/Berlin
BEGIN:DAYLIGHT
TZOFFSETFROM:+0100
TZOFFSETTO:+0200
TZNAME:CEST
DTSTART:19700329T020000
RRULE:FREQ=YEARLY;INTERVAL=1;BYDAY=-1SU;BYMONTH=3
END:DAYLIGHT
BEGIN:STANDARD
TZOFFSETFROM:+0200
TZOFFSETTO:+0100
TZNAME:CET
DTSTART:19701025T030000
RRULE:FREQ=YEARLY;INTERVAL=1;BYDAY=-1SU;BYMONTH=10
END:STANDARD
END:VTIMEZONE
BEGIN:VEVENT
DTSTAMP:20260420T164452
DTSTART;TZID=Europe/Berlin:20260225T204500
DTEND;TZID=Europe/Berlin:20260225T213000
UID:V24531110-20260225T204500@VHSBÖBLINGEN-SINDELFINGEN
SUMMARY:Rock-, Pop-, Blues-Gitarre  (V24531110) 
LOCATION:vhs.Studio, Pestalozzistr. 4, 71032 Böblingen
END:VEVENT
BEGIN:VEVENT
DTSTAMP:20260420T164452
DTSTART;TZID=Europe/Berlin:20260304T204500
DTEND;TZID=Europe/Berlin:20260304T213000
UID:V24531110-20260304T204500@VHSBÖBLINGEN-SINDELFINGEN
SUMMARY:Rock-, Pop-, Blues-Gitarre  (V24531110) 
LOCATION:vhs.Studio, Pestalozzistr. 4, 71032 Böblingen
END:VEVENT
BEGIN:VEVENT
DTSTAMP:20260420T164452
DTSTART;TZID=Europe/Berlin:20260311T204500
DTEND;TZID=Europe/Berlin:20260311T213000
UID:V24531110-20260311T204500@VHSBÖBLINGEN-SINDELFINGEN
SUMMARY:Rock-, Pop-, Blues-Gitarre  (V24531110) 
LOCATION:vhs.Studio, Pestalozzistr. 4, 71032 Böblingen
END:VEVENT
BEGIN:VEVENT
DTSTAMP:20260420T164452
DTSTART;TZID=Europe/Berlin:20260318T204500
DTEND;TZID=Europe/Berlin:20260318T213000
UID:V24531110-20260318T204500@VHSBÖBLINGEN-SINDELFINGEN
SUMMARY:Rock-, Pop-, Blues-Gitarre  (V24531110) 
LOCATION:vhs.Studio, Pestalozzistr. 4, 71032 Böblingen
END:VEVENT
BEGIN:VEVENT
DTSTAMP:20260420T164452
DTSTART;TZID=Europe/Berlin:20260325T204500
DTEND;TZID=Europe/Berlin:20260325T213000
UID:V24531110-20260325T204500@VHSBÖBLINGEN-SINDELFINGEN
SUMMARY:Rock-, Pop-, Blues-Gitarre  (V24531110) 
LOCATION:vhs.Studio, Pestalozzistr. 4, 71032 Böblingen
END:VEVENT
BEGIN:VEVENT
DTSTAMP:20260420T164452
DTSTART;TZID=Europe/Berlin:20260415T204500
DTEND;TZID=Europe/Berlin:20260415T213000
UID:V24531110-20260415T204500@VHSBÖBLINGEN-SINDELFINGEN
SUMMARY:Rock-, Pop-, Blues-Gitarre  (V24531110) 
LOCATION:vhs.Studio, Pestalozzistr. 4, 71032 Böblingen
END:VEVENT
BEGIN:VEVENT
DTSTAMP:20260420T164452
DTSTART;TZID=Europe/Berlin:20260422T204500
DTEND;TZID=Europe/Berlin:20260422T213000
UID:V24531110-20260422T204500@VHSBÖBLINGEN-SINDELFINGEN
SUMMARY:Rock-, Pop-, Blues-Gitarre  (V24531110) 
LOCATION:vhs.Studio, Pestalozzistr. 4, 71032 Böblingen
END:VEVENT
BEGIN:VEVENT
DTSTAMP:20260420T164452
DTSTART;TZID=Europe/Berlin:20260429T204500
DTEND;TZID=Europe/Berlin:20260429T213000
UID:V24531110-20260429T204500@VHSBÖBLINGEN-SINDELFINGEN
SUMMARY:Rock-, Pop-, Blues-Gitarre  (V24531110) 
LOCATION:vhs.Studio, Pestalozzistr. 4, 71032 Böblingen
END:VEVENT
BEGIN:VEVENT
DTSTAMP:20260420T164452
DTSTART;TZID=Europe/Berlin:20260506T204500
DTEND;TZID=Europe/Berlin:20260506T213000
UID:V24531110-20260506T204500@VHSBÖBLINGEN-SINDELFINGEN
SUMMARY:Rock-, Pop-, Blues-Gitarre  (V24531110) 
LOCATION:vhs.Studio, Pestalozzistr. 4, 71032 Böblingen
END:VEVENT
BEGIN:VEVENT
DTSTAMP:20260420T164452
DTSTART;TZID=Europe/Berlin:20260513T204500
DTEND;TZID=Europe/Berlin:20260513T213000
UID:V24531110-20260513T204500@VHSBÖBLINGEN-SINDELFINGEN
SUMMARY:Rock-, Pop-, Blues-Gitarre  (V24531110) 
LOCATION:vhs.Studio, Pestalozzistr. 4, 71032 Böblingen
END:VEVENT
BEGIN:VEVENT
DTSTAMP:20260420T164452
DTSTART;TZID=Europe/Berlin:20260520T204500
DTEND;TZID=Europe/Berlin:20260520T213000
UID:V24531110-20260520T204500@VHSBÖBLINGEN-SINDELFINGEN
SUMMARY:Rock-, Pop-, Blues-Gitarre  (V24531110) 
LOCATION:vhs.Studio, Pestalozzistr. 4, 71032 Böblingen
END:VEVENT
BEGIN:VEVENT
DTSTAMP:20260420T164452
DTSTART;TZID=Europe/Berlin:20260610T204500
DTEND;TZID=Europe/Berlin:20260610T213000
UID:V24531110-20260610T204500@VHSBÖBLINGEN-SINDELFINGEN
SUMMARY:Rock-, Pop-, Blues-Gitarre  (V24531110) 
LOCATION:vhs.Studio, Pestalozzistr. 4, 71032 Böblingen
END:VEVENT
BEGIN:VEVENT
DTSTAMP:20260420T164452
DTSTART;TZID=Europe/Berlin:20260617T204500
DTEND;TZID=Europe/Berlin:20260617T213000
UID:V24531110-20260617T204500@VHSBÖBLINGEN-SINDELFINGEN
SUMMARY:Rock-, Pop-, Blues-Gitarre  (V24531110) 
LOCATION:vhs.Studio, Pestalozzistr. 4, 71032 Böblingen
END:VEVENT
BEGIN:VEVENT
DTSTAMP:20260420T164452
DTSTART;TZID=Europe/Berlin:20260624T204500
DTEND;TZID=Europe/Berlin:20260624T213000
UID:V24531110-20260624T204500@VHSBÖBLINGEN-SINDELFINGEN
SUMMARY:Rock-, Pop-, Blues-Gitarre  (V24531110) 
LOCATION:vhs.Studio, Pestalozzistr. 4, 71032 Böblingen
END:VEVENT
BEGIN:VEVENT
DTSTAMP:20260420T164452
DTSTART;TZID=Europe/Berlin:20260701T204500
DTEND;TZID=Europe/Berlin:20260701T213000
UID:V24531110-20260701T204500@VHSBÖBLINGEN-SINDELFINGEN
SUMMARY:Rock-, Pop-, Blues-Gitarre  (V24531110) 
LOCATION:vhs.Studio, Pestalozzistr. 4, 71032 Böblingen
END:VEVENT
BEGIN:VEVENT
DTSTAMP:20260420T164452
DTSTART;TZID=Europe/Berlin:20260708T204500
DTEND;TZID=Europe/Berlin:20260708T213000
UID:V24531110-20260708T204500@VHSBÖBLINGEN-SINDELFINGEN
SUMMARY:Rock-, Pop-, Blues-Gitarre  (V24531110) 
LOCATION:vhs.Studio, Pestalozzistr. 4, 71032 Böblingen
END:VEVENT
BEGIN:VEVENT
DTSTAMP:20260420T164452
DTSTART;TZID=Europe/Berlin:20260715T204500
DTEND;TZID=Europe/Berlin:20260715T213000
UID:V24531110-20260715T204500@VHSBÖBLINGEN-SINDELFINGEN
SUMMARY:Rock-, Pop-, Blues-Gitarre  (V24531110) 
LOCATION:vhs.Studio, Pestalozzistr. 4, 71032 Böblingen
END:VEVENT
END:VCALENDAR