BEGIN:VCALENDAR
VERSION:2.0
PRODID:https://www.kufer.de/kuferweb / DE
METHOD:PUBLISH
CALSCALE:GREGORIAN
X-WR-TIMEZONE:Europe/Berlin
BEGIN:VTIMEZONE
TZID:Europe/Berlin
X-LIC-LOCATION:Europe/Berlin
BEGIN:DAYLIGHT
TZOFFSETFROM:+0100
TZOFFSETTO:+0200
TZNAME:CEST
DTSTART:19700329T020000
RRULE:FREQ=YEARLY;INTERVAL=1;BYDAY=-1SU;BYMONTH=3
END:DAYLIGHT
BEGIN:STANDARD
TZOFFSETFROM:+0200
TZOFFSETTO:+0100
TZNAME:CET
DTSTART:19701025T030000
RRULE:FREQ=YEARLY;INTERVAL=1;BYDAY=-1SU;BYMONTH=10
END:STANDARD
END:VTIMEZONE
BEGIN:VEVENT
DTSTAMP:20260420T181923
DTSTART;TZID=Europe/Berlin:20260225T200000
DTEND;TZID=Europe/Berlin:20260225T204500
UID:V24531010-20260225T200000@VHSBÖBLINGEN-SINDELFINGEN
SUMMARY:Rock-, Pop-, Blues-Gitarre  (V24531010) 
LOCATION:vhs.Studio, Pestalozzistr. 4, 71032 Böblingen
END:VEVENT
BEGIN:VEVENT
DTSTAMP:20260420T181923
DTSTART;TZID=Europe/Berlin:20260304T200000
DTEND;TZID=Europe/Berlin:20260304T204500
UID:V24531010-20260304T200000@VHSBÖBLINGEN-SINDELFINGEN
SUMMARY:Rock-, Pop-, Blues-Gitarre  (V24531010) 
LOCATION:vhs.Studio, Pestalozzistr. 4, 71032 Böblingen
END:VEVENT
BEGIN:VEVENT
DTSTAMP:20260420T181923
DTSTART;TZID=Europe/Berlin:20260311T200000
DTEND;TZID=Europe/Berlin:20260311T204500
UID:V24531010-20260311T200000@VHSBÖBLINGEN-SINDELFINGEN
SUMMARY:Rock-, Pop-, Blues-Gitarre  (V24531010) 
LOCATION:vhs.Studio, Pestalozzistr. 4, 71032 Böblingen
END:VEVENT
BEGIN:VEVENT
DTSTAMP:20260420T181923
DTSTART;TZID=Europe/Berlin:20260318T200000
DTEND;TZID=Europe/Berlin:20260318T204500
UID:V24531010-20260318T200000@VHSBÖBLINGEN-SINDELFINGEN
SUMMARY:Rock-, Pop-, Blues-Gitarre  (V24531010) 
LOCATION:vhs.Studio, Pestalozzistr. 4, 71032 Böblingen
END:VEVENT
BEGIN:VEVENT
DTSTAMP:20260420T181923
DTSTART;TZID=Europe/Berlin:20260325T200000
DTEND;TZID=Europe/Berlin:20260325T204500
UID:V24531010-20260325T200000@VHSBÖBLINGEN-SINDELFINGEN
SUMMARY:Rock-, Pop-, Blues-Gitarre  (V24531010) 
LOCATION:vhs.Studio, Pestalozzistr. 4, 71032 Böblingen
END:VEVENT
BEGIN:VEVENT
DTSTAMP:20260420T181923
DTSTART;TZID=Europe/Berlin:20260415T200000
DTEND;TZID=Europe/Berlin:20260415T204500
UID:V24531010-20260415T200000@VHSBÖBLINGEN-SINDELFINGEN
SUMMARY:Rock-, Pop-, Blues-Gitarre  (V24531010) 
LOCATION:vhs.Studio, Pestalozzistr. 4, 71032 Böblingen
END:VEVENT
BEGIN:VEVENT
DTSTAMP:20260420T181923
DTSTART;TZID=Europe/Berlin:20260422T200000
DTEND;TZID=Europe/Berlin:20260422T204500
UID:V24531010-20260422T200000@VHSBÖBLINGEN-SINDELFINGEN
SUMMARY:Rock-, Pop-, Blues-Gitarre  (V24531010) 
LOCATION:vhs.Studio, Pestalozzistr. 4, 71032 Böblingen
END:VEVENT
BEGIN:VEVENT
DTSTAMP:20260420T181923
DTSTART;TZID=Europe/Berlin:20260429T200000
DTEND;TZID=Europe/Berlin:20260429T204500
UID:V24531010-20260429T200000@VHSBÖBLINGEN-SINDELFINGEN
SUMMARY:Rock-, Pop-, Blues-Gitarre  (V24531010) 
LOCATION:vhs.Studio, Pestalozzistr. 4, 71032 Böblingen
END:VEVENT
BEGIN:VEVENT
DTSTAMP:20260420T181923
DTSTART;TZID=Europe/Berlin:20260506T200000
DTEND;TZID=Europe/Berlin:20260506T204500
UID:V24531010-20260506T200000@VHSBÖBLINGEN-SINDELFINGEN
SUMMARY:Rock-, Pop-, Blues-Gitarre  (V24531010) 
LOCATION:vhs.Studio, Pestalozzistr. 4, 71032 Böblingen
END:VEVENT
BEGIN:VEVENT
DTSTAMP:20260420T181923
DTSTART;TZID=Europe/Berlin:20260513T200000
DTEND;TZID=Europe/Berlin:20260513T204500
UID:V24531010-20260513T200000@VHSBÖBLINGEN-SINDELFINGEN
SUMMARY:Rock-, Pop-, Blues-Gitarre  (V24531010) 
LOCATION:vhs.Studio, Pestalozzistr. 4, 71032 Böblingen
END:VEVENT
BEGIN:VEVENT
DTSTAMP:20260420T181923
DTSTART;TZID=Europe/Berlin:20260520T200000
DTEND;TZID=Europe/Berlin:20260520T204500
UID:V24531010-20260520T200000@VHSBÖBLINGEN-SINDELFINGEN
SUMMARY:Rock-, Pop-, Blues-Gitarre  (V24531010) 
LOCATION:vhs.Studio, Pestalozzistr. 4, 71032 Böblingen
END:VEVENT
BEGIN:VEVENT
DTSTAMP:20260420T181923
DTSTART;TZID=Europe/Berlin:20260610T200000
DTEND;TZID=Europe/Berlin:20260610T204500
UID:V24531010-20260610T200000@VHSBÖBLINGEN-SINDELFINGEN
SUMMARY:Rock-, Pop-, Blues-Gitarre  (V24531010) 
LOCATION:vhs.Studio, Pestalozzistr. 4, 71032 Böblingen
END:VEVENT
BEGIN:VEVENT
DTSTAMP:20260420T181923
DTSTART;TZID=Europe/Berlin:20260617T200000
DTEND;TZID=Europe/Berlin:20260617T204500
UID:V24531010-20260617T200000@VHSBÖBLINGEN-SINDELFINGEN
SUMMARY:Rock-, Pop-, Blues-Gitarre  (V24531010) 
LOCATION:vhs.Studio, Pestalozzistr. 4, 71032 Böblingen
END:VEVENT
BEGIN:VEVENT
DTSTAMP:20260420T181923
DTSTART;TZID=Europe/Berlin:20260624T200000
DTEND;TZID=Europe/Berlin:20260624T204500
UID:V24531010-20260624T200000@VHSBÖBLINGEN-SINDELFINGEN
SUMMARY:Rock-, Pop-, Blues-Gitarre  (V24531010) 
LOCATION:vhs.Studio, Pestalozzistr. 4, 71032 Böblingen
END:VEVENT
BEGIN:VEVENT
DTSTAMP:20260420T181923
DTSTART;TZID=Europe/Berlin:20260701T200000
DTEND;TZID=Europe/Berlin:20260701T204500
UID:V24531010-20260701T200000@VHSBÖBLINGEN-SINDELFINGEN
SUMMARY:Rock-, Pop-, Blues-Gitarre  (V24531010) 
LOCATION:vhs.Studio, Pestalozzistr. 4, 71032 Böblingen
END:VEVENT
BEGIN:VEVENT
DTSTAMP:20260420T181923
DTSTART;TZID=Europe/Berlin:20260708T200000
DTEND;TZID=Europe/Berlin:20260708T204500
UID:V24531010-20260708T200000@VHSBÖBLINGEN-SINDELFINGEN
SUMMARY:Rock-, Pop-, Blues-Gitarre  (V24531010) 
LOCATION:vhs.Studio, Pestalozzistr. 4, 71032 Böblingen
END:VEVENT
BEGIN:VEVENT
DTSTAMP:20260420T181923
DTSTART;TZID=Europe/Berlin:20260715T200000
DTEND;TZID=Europe/Berlin:20260715T204500
UID:V24531010-20260715T200000@VHSBÖBLINGEN-SINDELFINGEN
SUMMARY:Rock-, Pop-, Blues-Gitarre  (V24531010) 
LOCATION:vhs.Studio, Pestalozzistr. 4, 71032 Böblingen
END:VEVENT
END:VCALENDAR