BEGIN:VCALENDAR
VERSION:2.0
PRODID:https://www.kufer.de/kuferweb / DE
METHOD:PUBLISH
CALSCALE:GREGORIAN
X-WR-TIMEZONE:Europe/Berlin
BEGIN:VTIMEZONE
TZID:Europe/Berlin
X-LIC-LOCATION:Europe/Berlin
BEGIN:DAYLIGHT
TZOFFSETFROM:+0100
TZOFFSETTO:+0200
TZNAME:CEST
DTSTART:19700329T020000
RRULE:FREQ=YEARLY;INTERVAL=1;BYDAY=-1SU;BYMONTH=3
END:DAYLIGHT
BEGIN:STANDARD
TZOFFSETFROM:+0200
TZOFFSETTO:+0100
TZNAME:CET
DTSTART:19701025T030000
RRULE:FREQ=YEARLY;INTERVAL=1;BYDAY=-1SU;BYMONTH=10
END:STANDARD
END:VTIMEZONE
BEGIN:VEVENT
DTSTAMP:20260421T022728
DTSTART;TZID=Europe/Berlin:20260223T211500
DTEND;TZID=Europe/Berlin:20260223T220000
UID:V24530210-20260223T211500@VHSBÖBLINGEN-SINDELFINGEN
SUMMARY:Rock-, Pop-, Blues-Gitarre  (V24530210) 
LOCATION:vhs.Studio, Pestalozzistr. 4, 71032 Böblingen
END:VEVENT
BEGIN:VEVENT
DTSTAMP:20260421T022728
DTSTART;TZID=Europe/Berlin:20260302T213000
DTEND;TZID=Europe/Berlin:20260302T221500
UID:V24530210-20260302T213000@VHSBÖBLINGEN-SINDELFINGEN
SUMMARY:Rock-, Pop-, Blues-Gitarre  (V24530210) 
LOCATION:vhs.Studio, Pestalozzistr. 4, 71032 Böblingen
END:VEVENT
BEGIN:VEVENT
DTSTAMP:20260421T022728
DTSTART;TZID=Europe/Berlin:20260309T211500
DTEND;TZID=Europe/Berlin:20260309T220000
UID:V24530210-20260309T211500@VHSBÖBLINGEN-SINDELFINGEN
SUMMARY:Rock-, Pop-, Blues-Gitarre  (V24530210) 
LOCATION:vhs.Studio, Pestalozzistr. 4, 71032 Böblingen
END:VEVENT
BEGIN:VEVENT
DTSTAMP:20260421T022728
DTSTART;TZID=Europe/Berlin:20260316T211500
DTEND;TZID=Europe/Berlin:20260316T220000
UID:V24530210-20260316T211500@VHSBÖBLINGEN-SINDELFINGEN
SUMMARY:Rock-, Pop-, Blues-Gitarre  (V24530210) 
LOCATION:vhs.Studio, Pestalozzistr. 4, 71032 Böblingen
END:VEVENT
BEGIN:VEVENT
DTSTAMP:20260421T022728
DTSTART;TZID=Europe/Berlin:20260323T211500
DTEND;TZID=Europe/Berlin:20260323T220000
UID:V24530210-20260323T211500@VHSBÖBLINGEN-SINDELFINGEN
SUMMARY:Rock-, Pop-, Blues-Gitarre  (V24530210) 
LOCATION:vhs.Studio, Pestalozzistr. 4, 71032 Böblingen
END:VEVENT
BEGIN:VEVENT
DTSTAMP:20260421T022728
DTSTART;TZID=Europe/Berlin:20260413T211500
DTEND;TZID=Europe/Berlin:20260413T220000
UID:V24530210-20260413T211500@VHSBÖBLINGEN-SINDELFINGEN
SUMMARY:Rock-, Pop-, Blues-Gitarre  (V24530210) 
LOCATION:vhs.Studio, Pestalozzistr. 4, 71032 Böblingen
END:VEVENT
BEGIN:VEVENT
DTSTAMP:20260421T022728
DTSTART;TZID=Europe/Berlin:20260420T211500
DTEND;TZID=Europe/Berlin:20260420T220000
UID:V24530210-20260420T211500@VHSBÖBLINGEN-SINDELFINGEN
SUMMARY:Rock-, Pop-, Blues-Gitarre  (V24530210) 
LOCATION:vhs.Studio, Pestalozzistr. 4, 71032 Böblingen
END:VEVENT
BEGIN:VEVENT
DTSTAMP:20260421T022728
DTSTART;TZID=Europe/Berlin:20260427T211500
DTEND;TZID=Europe/Berlin:20260427T220000
UID:V24530210-20260427T211500@VHSBÖBLINGEN-SINDELFINGEN
SUMMARY:Rock-, Pop-, Blues-Gitarre  (V24530210) 
LOCATION:vhs.Studio, Pestalozzistr. 4, 71032 Böblingen
END:VEVENT
BEGIN:VEVENT
DTSTAMP:20260421T022728
DTSTART;TZID=Europe/Berlin:20260504T211500
DTEND;TZID=Europe/Berlin:20260504T220000
UID:V24530210-20260504T211500@VHSBÖBLINGEN-SINDELFINGEN
SUMMARY:Rock-, Pop-, Blues-Gitarre  (V24530210) 
LOCATION:vhs.Studio, Pestalozzistr. 4, 71032 Böblingen
END:VEVENT
BEGIN:VEVENT
DTSTAMP:20260421T022728
DTSTART;TZID=Europe/Berlin:20260511T211500
DTEND;TZID=Europe/Berlin:20260511T220000
UID:V24530210-20260511T211500@VHSBÖBLINGEN-SINDELFINGEN
SUMMARY:Rock-, Pop-, Blues-Gitarre  (V24530210) 
LOCATION:vhs.Studio, Pestalozzistr. 4, 71032 Böblingen
END:VEVENT
BEGIN:VEVENT
DTSTAMP:20260421T022728
DTSTART;TZID=Europe/Berlin:20260518T211500
DTEND;TZID=Europe/Berlin:20260518T220000
UID:V24530210-20260518T211500@VHSBÖBLINGEN-SINDELFINGEN
SUMMARY:Rock-, Pop-, Blues-Gitarre  (V24530210) 
LOCATION:vhs.Studio, Pestalozzistr. 4, 71032 Böblingen
END:VEVENT
BEGIN:VEVENT
DTSTAMP:20260421T022728
DTSTART;TZID=Europe/Berlin:20260608T211500
DTEND;TZID=Europe/Berlin:20260608T220000
UID:V24530210-20260608T211500@VHSBÖBLINGEN-SINDELFINGEN
SUMMARY:Rock-, Pop-, Blues-Gitarre  (V24530210) 
LOCATION:vhs.Studio, Pestalozzistr. 4, 71032 Böblingen
END:VEVENT
BEGIN:VEVENT
DTSTAMP:20260421T022728
DTSTART;TZID=Europe/Berlin:20260615T211500
DTEND;TZID=Europe/Berlin:20260615T220000
UID:V24530210-20260615T211500@VHSBÖBLINGEN-SINDELFINGEN
SUMMARY:Rock-, Pop-, Blues-Gitarre  (V24530210) 
LOCATION:vhs.Studio, Pestalozzistr. 4, 71032 Böblingen
END:VEVENT
BEGIN:VEVENT
DTSTAMP:20260421T022728
DTSTART;TZID=Europe/Berlin:20260622T211500
DTEND;TZID=Europe/Berlin:20260622T220000
UID:V24530210-20260622T211500@VHSBÖBLINGEN-SINDELFINGEN
SUMMARY:Rock-, Pop-, Blues-Gitarre  (V24530210) 
LOCATION:vhs.Studio, Pestalozzistr. 4, 71032 Böblingen
END:VEVENT
BEGIN:VEVENT
DTSTAMP:20260421T022728
DTSTART;TZID=Europe/Berlin:20260629T211500
DTEND;TZID=Europe/Berlin:20260629T220000
UID:V24530210-20260629T211500@VHSBÖBLINGEN-SINDELFINGEN
SUMMARY:Rock-, Pop-, Blues-Gitarre  (V24530210) 
LOCATION:vhs.Studio, Pestalozzistr. 4, 71032 Böblingen
END:VEVENT
BEGIN:VEVENT
DTSTAMP:20260421T022728
DTSTART;TZID=Europe/Berlin:20260706T211500
DTEND;TZID=Europe/Berlin:20260706T220000
UID:V24530210-20260706T211500@VHSBÖBLINGEN-SINDELFINGEN
SUMMARY:Rock-, Pop-, Blues-Gitarre  (V24530210) 
LOCATION:vhs.Studio, Pestalozzistr. 4, 71032 Böblingen
END:VEVENT
BEGIN:VEVENT
DTSTAMP:20260421T022728
DTSTART;TZID=Europe/Berlin:20260713T211500
DTEND;TZID=Europe/Berlin:20260713T220000
UID:V24530210-20260713T211500@VHSBÖBLINGEN-SINDELFINGEN
SUMMARY:Rock-, Pop-, Blues-Gitarre  (V24530210) 
LOCATION:vhs.Studio, Pestalozzistr. 4, 71032 Böblingen
END:VEVENT
END:VCALENDAR