BEGIN:VCALENDAR
VERSION:2.0
PRODID:https://www.kufer.de/kuferweb / DE
METHOD:PUBLISH
CALSCALE:GREGORIAN
X-WR-TIMEZONE:Europe/Berlin
BEGIN:VTIMEZONE
TZID:Europe/Berlin
X-LIC-LOCATION:Europe/Berlin
BEGIN:DAYLIGHT
TZOFFSETFROM:+0100
TZOFFSETTO:+0200
TZNAME:CEST
DTSTART:19700329T020000
RRULE:FREQ=YEARLY;INTERVAL=1;BYDAY=-1SU;BYMONTH=3
END:DAYLIGHT
BEGIN:STANDARD
TZOFFSETFROM:+0200
TZOFFSETTO:+0100
TZNAME:CET
DTSTART:19701025T030000
RRULE:FREQ=YEARLY;INTERVAL=1;BYDAY=-1SU;BYMONTH=10
END:STANDARD
END:VTIMEZONE
BEGIN:VEVENT
DTSTAMP:20260420T164403
DTSTART;TZID=Europe/Berlin:20260303T180000
DTEND;TZID=Europe/Berlin:20260303T184000
UID:V24401311-20260303T180000@VHSBÖBLINGEN-SINDELFINGEN
SUMMARY:Gitarre  (V24401311) 
LOCATION:AI, VHS, Raum 02, Hauptstr. 15, 71134 Aidlingen
END:VEVENT
BEGIN:VEVENT
DTSTAMP:20260420T164403
DTSTART;TZID=Europe/Berlin:20260310T180000
DTEND;TZID=Europe/Berlin:20260310T184000
UID:V24401311-20260310T180000@VHSBÖBLINGEN-SINDELFINGEN
SUMMARY:Gitarre  (V24401311) 
LOCATION:AI, VHS, Raum 02, Hauptstr. 15, 71134 Aidlingen
END:VEVENT
BEGIN:VEVENT
DTSTAMP:20260420T164403
DTSTART;TZID=Europe/Berlin:20260317T180000
DTEND;TZID=Europe/Berlin:20260317T184000
UID:V24401311-20260317T180000@VHSBÖBLINGEN-SINDELFINGEN
SUMMARY:Gitarre  (V24401311) 
LOCATION:AI, VHS, Raum 02, Hauptstr. 15, 71134 Aidlingen
END:VEVENT
BEGIN:VEVENT
DTSTAMP:20260420T164403
DTSTART;TZID=Europe/Berlin:20260324T180000
DTEND;TZID=Europe/Berlin:20260324T184000
UID:V24401311-20260324T180000@VHSBÖBLINGEN-SINDELFINGEN
SUMMARY:Gitarre  (V24401311) 
LOCATION:AI, VHS, Raum 02, Hauptstr. 15, 71134 Aidlingen
END:VEVENT
BEGIN:VEVENT
DTSTAMP:20260420T164403
DTSTART;TZID=Europe/Berlin:20260414T180000
DTEND;TZID=Europe/Berlin:20260414T184000
UID:V24401311-20260414T180000@VHSBÖBLINGEN-SINDELFINGEN
SUMMARY:Gitarre  (V24401311) 
LOCATION:AI, VHS, Raum 02, Hauptstr. 15, 71134 Aidlingen
END:VEVENT
BEGIN:VEVENT
DTSTAMP:20260420T164403
DTSTART;TZID=Europe/Berlin:20260421T180000
DTEND;TZID=Europe/Berlin:20260421T184000
UID:V24401311-20260421T180000@VHSBÖBLINGEN-SINDELFINGEN
SUMMARY:Gitarre  (V24401311) 
LOCATION:AI, VHS, Raum 02, Hauptstr. 15, 71134 Aidlingen
END:VEVENT
BEGIN:VEVENT
DTSTAMP:20260420T164403
DTSTART;TZID=Europe/Berlin:20260428T180000
DTEND;TZID=Europe/Berlin:20260428T184000
UID:V24401311-20260428T180000@VHSBÖBLINGEN-SINDELFINGEN
SUMMARY:Gitarre  (V24401311) 
LOCATION:AI, VHS, Raum 02, Hauptstr. 15, 71134 Aidlingen
END:VEVENT
BEGIN:VEVENT
DTSTAMP:20260420T164403
DTSTART;TZID=Europe/Berlin:20260505T180000
DTEND;TZID=Europe/Berlin:20260505T184000
UID:V24401311-20260505T180000@VHSBÖBLINGEN-SINDELFINGEN
SUMMARY:Gitarre  (V24401311) 
LOCATION:AI, VHS, Raum 02, Hauptstr. 15, 71134 Aidlingen
END:VEVENT
BEGIN:VEVENT
DTSTAMP:20260420T164403
DTSTART;TZID=Europe/Berlin:20260512T180000
DTEND;TZID=Europe/Berlin:20260512T184000
UID:V24401311-20260512T180000@VHSBÖBLINGEN-SINDELFINGEN
SUMMARY:Gitarre  (V24401311) 
LOCATION:AI, VHS, Raum 02, Hauptstr. 15, 71134 Aidlingen
END:VEVENT
BEGIN:VEVENT
DTSTAMP:20260420T164403
DTSTART;TZID=Europe/Berlin:20260519T180000
DTEND;TZID=Europe/Berlin:20260519T184000
UID:V24401311-20260519T180000@VHSBÖBLINGEN-SINDELFINGEN
SUMMARY:Gitarre  (V24401311) 
LOCATION:AI, VHS, Raum 02, Hauptstr. 15, 71134 Aidlingen
END:VEVENT
BEGIN:VEVENT
DTSTAMP:20260420T164403
DTSTART;TZID=Europe/Berlin:20260609T180000
DTEND;TZID=Europe/Berlin:20260609T184000
UID:V24401311-20260609T180000@VHSBÖBLINGEN-SINDELFINGEN
SUMMARY:Gitarre  (V24401311) 
LOCATION:AI, VHS, Raum 02, Hauptstr. 15, 71134 Aidlingen
END:VEVENT
BEGIN:VEVENT
DTSTAMP:20260420T164403
DTSTART;TZID=Europe/Berlin:20260616T180000
DTEND;TZID=Europe/Berlin:20260616T184000
UID:V24401311-20260616T180000@VHSBÖBLINGEN-SINDELFINGEN
SUMMARY:Gitarre  (V24401311) 
LOCATION:AI, VHS, Raum 02, Hauptstr. 15, 71134 Aidlingen
END:VEVENT
BEGIN:VEVENT
DTSTAMP:20260420T164403
DTSTART;TZID=Europe/Berlin:20260623T180000
DTEND;TZID=Europe/Berlin:20260623T184000
UID:V24401311-20260623T180000@VHSBÖBLINGEN-SINDELFINGEN
SUMMARY:Gitarre  (V24401311) 
LOCATION:AI, VHS, Raum 02, Hauptstr. 15, 71134 Aidlingen
END:VEVENT
BEGIN:VEVENT
DTSTAMP:20260420T164403
DTSTART;TZID=Europe/Berlin:20260630T180000
DTEND;TZID=Europe/Berlin:20260630T184000
UID:V24401311-20260630T180000@VHSBÖBLINGEN-SINDELFINGEN
SUMMARY:Gitarre  (V24401311) 
LOCATION:AI, VHS, Raum 02, Hauptstr. 15, 71134 Aidlingen
END:VEVENT
BEGIN:VEVENT
DTSTAMP:20260420T164403
DTSTART;TZID=Europe/Berlin:20260707T180000
DTEND;TZID=Europe/Berlin:20260707T184000
UID:V24401311-20260707T180000@VHSBÖBLINGEN-SINDELFINGEN
SUMMARY:Gitarre  (V24401311) 
LOCATION:AI, VHS, Raum 02, Hauptstr. 15, 71134 Aidlingen
END:VEVENT
END:VCALENDAR