BEGIN:VCALENDAR
VERSION:2.0
PRODID:https://www.kufer.de/kuferweb / DE
METHOD:PUBLISH
CALSCALE:GREGORIAN
X-WR-TIMEZONE:Europe/Berlin
BEGIN:VTIMEZONE
TZID:Europe/Berlin
X-LIC-LOCATION:Europe/Berlin
BEGIN:DAYLIGHT
TZOFFSETFROM:+0100
TZOFFSETTO:+0200
TZNAME:CEST
DTSTART:19700329T020000
RRULE:FREQ=YEARLY;INTERVAL=1;BYDAY=-1SU;BYMONTH=3
END:DAYLIGHT
BEGIN:STANDARD
TZOFFSETFROM:+0200
TZOFFSETTO:+0100
TZNAME:CET
DTSTART:19701025T030000
RRULE:FREQ=YEARLY;INTERVAL=1;BYDAY=-1SU;BYMONTH=10
END:STANDARD
END:VTIMEZONE
BEGIN:VEVENT
DTSTAMP:20260421T005128
DTSTART;TZID=Europe/Berlin:20260303T164500
DTEND;TZID=Europe/Berlin:20260303T171500
UID:V24401111-20260303T164500@VHSBÖBLINGEN-SINDELFINGEN
SUMMARY:Gitarre  (V24401111) 
LOCATION:AI, VHS, Raum 02, Hauptstr. 15, 71134 Aidlingen
END:VEVENT
BEGIN:VEVENT
DTSTAMP:20260421T005128
DTSTART;TZID=Europe/Berlin:20260310T164500
DTEND;TZID=Europe/Berlin:20260310T171500
UID:V24401111-20260310T164500@VHSBÖBLINGEN-SINDELFINGEN
SUMMARY:Gitarre  (V24401111) 
LOCATION:AI, VHS, Raum 02, Hauptstr. 15, 71134 Aidlingen
END:VEVENT
BEGIN:VEVENT
DTSTAMP:20260421T005128
DTSTART;TZID=Europe/Berlin:20260317T164500
DTEND;TZID=Europe/Berlin:20260317T171500
UID:V24401111-20260317T164500@VHSBÖBLINGEN-SINDELFINGEN
SUMMARY:Gitarre  (V24401111) 
LOCATION:AI, VHS, Raum 02, Hauptstr. 15, 71134 Aidlingen
END:VEVENT
BEGIN:VEVENT
DTSTAMP:20260421T005128
DTSTART;TZID=Europe/Berlin:20260324T164500
DTEND;TZID=Europe/Berlin:20260324T171500
UID:V24401111-20260324T164500@VHSBÖBLINGEN-SINDELFINGEN
SUMMARY:Gitarre  (V24401111) 
LOCATION:AI, VHS, Raum 02, Hauptstr. 15, 71134 Aidlingen
END:VEVENT
BEGIN:VEVENT
DTSTAMP:20260421T005128
DTSTART;TZID=Europe/Berlin:20260414T164500
DTEND;TZID=Europe/Berlin:20260414T171500
UID:V24401111-20260414T164500@VHSBÖBLINGEN-SINDELFINGEN
SUMMARY:Gitarre  (V24401111) 
LOCATION:AI, VHS, Raum 02, Hauptstr. 15, 71134 Aidlingen
END:VEVENT
BEGIN:VEVENT
DTSTAMP:20260421T005128
DTSTART;TZID=Europe/Berlin:20260421T164500
DTEND;TZID=Europe/Berlin:20260421T171500
UID:V24401111-20260421T164500@VHSBÖBLINGEN-SINDELFINGEN
SUMMARY:Gitarre  (V24401111) 
LOCATION:AI, VHS, Raum 02, Hauptstr. 15, 71134 Aidlingen
END:VEVENT
BEGIN:VEVENT
DTSTAMP:20260421T005128
DTSTART;TZID=Europe/Berlin:20260428T164500
DTEND;TZID=Europe/Berlin:20260428T171500
UID:V24401111-20260428T164500@VHSBÖBLINGEN-SINDELFINGEN
SUMMARY:Gitarre  (V24401111) 
LOCATION:AI, VHS, Raum 02, Hauptstr. 15, 71134 Aidlingen
END:VEVENT
BEGIN:VEVENT
DTSTAMP:20260421T005128
DTSTART;TZID=Europe/Berlin:20260505T164500
DTEND;TZID=Europe/Berlin:20260505T171500
UID:V24401111-20260505T164500@VHSBÖBLINGEN-SINDELFINGEN
SUMMARY:Gitarre  (V24401111) 
LOCATION:AI, VHS, Raum 02, Hauptstr. 15, 71134 Aidlingen
END:VEVENT
BEGIN:VEVENT
DTSTAMP:20260421T005128
DTSTART;TZID=Europe/Berlin:20260512T164500
DTEND;TZID=Europe/Berlin:20260512T171500
UID:V24401111-20260512T164500@VHSBÖBLINGEN-SINDELFINGEN
SUMMARY:Gitarre  (V24401111) 
LOCATION:AI, VHS, Raum 02, Hauptstr. 15, 71134 Aidlingen
END:VEVENT
BEGIN:VEVENT
DTSTAMP:20260421T005128
DTSTART;TZID=Europe/Berlin:20260519T164500
DTEND;TZID=Europe/Berlin:20260519T171500
UID:V24401111-20260519T164500@VHSBÖBLINGEN-SINDELFINGEN
SUMMARY:Gitarre  (V24401111) 
LOCATION:AI, VHS, Raum 02, Hauptstr. 15, 71134 Aidlingen
END:VEVENT
BEGIN:VEVENT
DTSTAMP:20260421T005128
DTSTART;TZID=Europe/Berlin:20260609T164500
DTEND;TZID=Europe/Berlin:20260609T171500
UID:V24401111-20260609T164500@VHSBÖBLINGEN-SINDELFINGEN
SUMMARY:Gitarre  (V24401111) 
LOCATION:AI, VHS, Raum 02, Hauptstr. 15, 71134 Aidlingen
END:VEVENT
BEGIN:VEVENT
DTSTAMP:20260421T005128
DTSTART;TZID=Europe/Berlin:20260616T164500
DTEND;TZID=Europe/Berlin:20260616T171500
UID:V24401111-20260616T164500@VHSBÖBLINGEN-SINDELFINGEN
SUMMARY:Gitarre  (V24401111) 
LOCATION:AI, VHS, Raum 02, Hauptstr. 15, 71134 Aidlingen
END:VEVENT
BEGIN:VEVENT
DTSTAMP:20260421T005128
DTSTART;TZID=Europe/Berlin:20260623T164500
DTEND;TZID=Europe/Berlin:20260623T171500
UID:V24401111-20260623T164500@VHSBÖBLINGEN-SINDELFINGEN
SUMMARY:Gitarre  (V24401111) 
LOCATION:AI, VHS, Raum 02, Hauptstr. 15, 71134 Aidlingen
END:VEVENT
BEGIN:VEVENT
DTSTAMP:20260421T005128
DTSTART;TZID=Europe/Berlin:20260630T164500
DTEND;TZID=Europe/Berlin:20260630T171500
UID:V24401111-20260630T164500@VHSBÖBLINGEN-SINDELFINGEN
SUMMARY:Gitarre  (V24401111) 
LOCATION:AI, VHS, Raum 02, Hauptstr. 15, 71134 Aidlingen
END:VEVENT
BEGIN:VEVENT
DTSTAMP:20260421T005128
DTSTART;TZID=Europe/Berlin:20260707T164500
DTEND;TZID=Europe/Berlin:20260707T171500
UID:V24401111-20260707T164500@VHSBÖBLINGEN-SINDELFINGEN
SUMMARY:Gitarre  (V24401111) 
LOCATION:AI, VHS, Raum 02, Hauptstr. 15, 71134 Aidlingen
END:VEVENT
END:VCALENDAR