BEGIN:VCALENDAR
VERSION:2.0
PRODID:https://www.kufer.de/kuferweb / DE
METHOD:PUBLISH
CALSCALE:GREGORIAN
X-WR-TIMEZONE:Europe/Berlin
BEGIN:VTIMEZONE
TZID:Europe/Berlin
X-LIC-LOCATION:Europe/Berlin
BEGIN:DAYLIGHT
TZOFFSETFROM:+0100
TZOFFSETTO:+0200
TZNAME:CEST
DTSTART:19700329T020000
RRULE:FREQ=YEARLY;INTERVAL=1;BYDAY=-1SU;BYMONTH=3
END:DAYLIGHT
BEGIN:STANDARD
TZOFFSETFROM:+0200
TZOFFSETTO:+0100
TZNAME:CET
DTSTART:19701025T030000
RRULE:FREQ=YEARLY;INTERVAL=1;BYDAY=-1SU;BYMONTH=10
END:STANDARD
END:VTIMEZONE
BEGIN:VEVENT
DTSTAMP:20260421T070655
DTSTART;TZID=Europe/Berlin:20260306T190000
DTEND;TZID=Europe/Berlin:20260306T194500
UID:V24260410-20260306T190000@VHSBÖBLINGEN-SINDELFINGEN
SUMMARY:Klavier für Erwachsene  Einzelunterricht (V24260410) 
LOCATION:GHH, 204, 2.OG, Böblinger Str. 8, 71065 Sindelfingen
END:VEVENT
BEGIN:VEVENT
DTSTAMP:20260421T070655
DTSTART;TZID=Europe/Berlin:20260313T190000
DTEND;TZID=Europe/Berlin:20260313T194500
UID:V24260410-20260313T190000@VHSBÖBLINGEN-SINDELFINGEN
SUMMARY:Klavier für Erwachsene  Einzelunterricht (V24260410) 
LOCATION:GHH, 204, 2.OG, Böblinger Str. 8, 71065 Sindelfingen
END:VEVENT
BEGIN:VEVENT
DTSTAMP:20260421T070655
DTSTART;TZID=Europe/Berlin:20260320T190000
DTEND;TZID=Europe/Berlin:20260320T194500
UID:V24260410-20260320T190000@VHSBÖBLINGEN-SINDELFINGEN
SUMMARY:Klavier für Erwachsene  Einzelunterricht (V24260410) 
LOCATION:GHH, 204, 2.OG, Böblinger Str. 8, 71065 Sindelfingen
END:VEVENT
BEGIN:VEVENT
DTSTAMP:20260421T070655
DTSTART;TZID=Europe/Berlin:20260327T190000
DTEND;TZID=Europe/Berlin:20260327T194500
UID:V24260410-20260327T190000@VHSBÖBLINGEN-SINDELFINGEN
SUMMARY:Klavier für Erwachsene  Einzelunterricht (V24260410) 
LOCATION:GHH, 204, 2.OG, Böblinger Str. 8, 71065 Sindelfingen
END:VEVENT
BEGIN:VEVENT
DTSTAMP:20260421T070655
DTSTART;TZID=Europe/Berlin:20260417T190000
DTEND;TZID=Europe/Berlin:20260417T194500
UID:V24260410-20260417T190000@VHSBÖBLINGEN-SINDELFINGEN
SUMMARY:Klavier für Erwachsene  Einzelunterricht (V24260410) 
LOCATION:GHH, 204, 2.OG, Böblinger Str. 8, 71065 Sindelfingen
END:VEVENT
BEGIN:VEVENT
DTSTAMP:20260421T070655
DTSTART;TZID=Europe/Berlin:20260424T190000
DTEND;TZID=Europe/Berlin:20260424T194500
UID:V24260410-20260424T190000@VHSBÖBLINGEN-SINDELFINGEN
SUMMARY:Klavier für Erwachsene  Einzelunterricht (V24260410) 
LOCATION:GHH, 204, 2.OG, Böblinger Str. 8, 71065 Sindelfingen
END:VEVENT
BEGIN:VEVENT
DTSTAMP:20260421T070655
DTSTART;TZID=Europe/Berlin:20260508T190000
DTEND;TZID=Europe/Berlin:20260508T194500
UID:V24260410-20260508T190000@VHSBÖBLINGEN-SINDELFINGEN
SUMMARY:Klavier für Erwachsene  Einzelunterricht (V24260410) 
LOCATION:GHH, 204, 2.OG, Böblinger Str. 8, 71065 Sindelfingen
END:VEVENT
BEGIN:VEVENT
DTSTAMP:20260421T070655
DTSTART;TZID=Europe/Berlin:20260515T190000
DTEND;TZID=Europe/Berlin:20260515T194500
UID:V24260410-20260515T190000@VHSBÖBLINGEN-SINDELFINGEN
SUMMARY:Klavier für Erwachsene  Einzelunterricht (V24260410) 
LOCATION:GHH, 204, 2.OG, Böblinger Str. 8, 71065 Sindelfingen
END:VEVENT
BEGIN:VEVENT
DTSTAMP:20260421T070655
DTSTART;TZID=Europe/Berlin:20260522T190000
DTEND;TZID=Europe/Berlin:20260522T194500
UID:V24260410-20260522T190000@VHSBÖBLINGEN-SINDELFINGEN
SUMMARY:Klavier für Erwachsene  Einzelunterricht (V24260410) 
LOCATION:GHH, 204, 2.OG, Böblinger Str. 8, 71065 Sindelfingen
END:VEVENT
BEGIN:VEVENT
DTSTAMP:20260421T070655
DTSTART;TZID=Europe/Berlin:20260612T190000
DTEND;TZID=Europe/Berlin:20260612T194500
UID:V24260410-20260612T190000@VHSBÖBLINGEN-SINDELFINGEN
SUMMARY:Klavier für Erwachsene  Einzelunterricht (V24260410) 
LOCATION:GHH, 204, 2.OG, Böblinger Str. 8, 71065 Sindelfingen
END:VEVENT
BEGIN:VEVENT
DTSTAMP:20260421T070655
DTSTART;TZID=Europe/Berlin:20260619T190000
DTEND;TZID=Europe/Berlin:20260619T194500
UID:V24260410-20260619T190000@VHSBÖBLINGEN-SINDELFINGEN
SUMMARY:Klavier für Erwachsene  Einzelunterricht (V24260410) 
LOCATION:GHH, 204, 2.OG, Böblinger Str. 8, 71065 Sindelfingen
END:VEVENT
BEGIN:VEVENT
DTSTAMP:20260421T070655
DTSTART;TZID=Europe/Berlin:20260626T190000
DTEND;TZID=Europe/Berlin:20260626T194500
UID:V24260410-20260626T190000@VHSBÖBLINGEN-SINDELFINGEN
SUMMARY:Klavier für Erwachsene  Einzelunterricht (V24260410) 
LOCATION:GHH, 204, 2.OG, Böblinger Str. 8, 71065 Sindelfingen
END:VEVENT
BEGIN:VEVENT
DTSTAMP:20260421T070655
DTSTART;TZID=Europe/Berlin:20260703T190000
DTEND;TZID=Europe/Berlin:20260703T194500
UID:V24260410-20260703T190000@VHSBÖBLINGEN-SINDELFINGEN
SUMMARY:Klavier für Erwachsene  Einzelunterricht (V24260410) 
LOCATION:GHH, 204, 2.OG, Böblinger Str. 8, 71065 Sindelfingen
END:VEVENT
BEGIN:VEVENT
DTSTAMP:20260421T070655
DTSTART;TZID=Europe/Berlin:20260710T190000
DTEND;TZID=Europe/Berlin:20260710T194500
UID:V24260410-20260710T190000@VHSBÖBLINGEN-SINDELFINGEN
SUMMARY:Klavier für Erwachsene  Einzelunterricht (V24260410) 
LOCATION:GHH, 204, 2.OG, Böblinger Str. 8, 71065 Sindelfingen
END:VEVENT
BEGIN:VEVENT
DTSTAMP:20260421T070655
DTSTART;TZID=Europe/Berlin:20260717T190000
DTEND;TZID=Europe/Berlin:20260717T194500
UID:V24260410-20260717T190000@VHSBÖBLINGEN-SINDELFINGEN
SUMMARY:Klavier für Erwachsene  Einzelunterricht (V24260410) 
LOCATION:GHH, 204, 2.OG, Böblinger Str. 8, 71065 Sindelfingen
END:VEVENT
BEGIN:VEVENT
DTSTAMP:20260421T070655
DTSTART;TZID=Europe/Berlin:20260724T190000
DTEND;TZID=Europe/Berlin:20260724T194500
UID:V24260410-20260724T190000@VHSBÖBLINGEN-SINDELFINGEN
SUMMARY:Klavier für Erwachsene  Einzelunterricht (V24260410) 
LOCATION:GHH, 204, 2.OG, Böblinger Str. 8, 71065 Sindelfingen
END:VEVENT
END:VCALENDAR