BEGIN:VCALENDAR
VERSION:2.0
PRODID:https://www.kufer.de/kuferweb / DE
METHOD:PUBLISH
CALSCALE:GREGORIAN
X-WR-TIMEZONE:Europe/Berlin
BEGIN:VTIMEZONE
TZID:Europe/Berlin
X-LIC-LOCATION:Europe/Berlin
BEGIN:DAYLIGHT
TZOFFSETFROM:+0100
TZOFFSETTO:+0200
TZNAME:CEST
DTSTART:19700329T020000
RRULE:FREQ=YEARLY;INTERVAL=1;BYDAY=-1SU;BYMONTH=3
END:DAYLIGHT
BEGIN:STANDARD
TZOFFSETFROM:+0200
TZOFFSETTO:+0100
TZNAME:CET
DTSTART:19701025T030000
RRULE:FREQ=YEARLY;INTERVAL=1;BYDAY=-1SU;BYMONTH=10
END:STANDARD
END:VTIMEZONE
BEGIN:VEVENT
DTSTAMP:20260421T003436
DTSTART;TZID=Europe/Berlin:20260306T173000
DTEND;TZID=Europe/Berlin:20260306T181500
UID:V24260210-20260306T173000@VHSBÖBLINGEN-SINDELFINGEN
SUMMARY:Klavier für Erwachsene  Einzelunterricht (V24260210) 
LOCATION:GHH, 204, 2.OG, Böblinger Str. 8, 71065 Sindelfingen
END:VEVENT
BEGIN:VEVENT
DTSTAMP:20260421T003436
DTSTART;TZID=Europe/Berlin:20260313T173000
DTEND;TZID=Europe/Berlin:20260313T181500
UID:V24260210-20260313T173000@VHSBÖBLINGEN-SINDELFINGEN
SUMMARY:Klavier für Erwachsene  Einzelunterricht (V24260210) 
LOCATION:GHH, 204, 2.OG, Böblinger Str. 8, 71065 Sindelfingen
END:VEVENT
BEGIN:VEVENT
DTSTAMP:20260421T003436
DTSTART;TZID=Europe/Berlin:20260320T173000
DTEND;TZID=Europe/Berlin:20260320T181500
UID:V24260210-20260320T173000@VHSBÖBLINGEN-SINDELFINGEN
SUMMARY:Klavier für Erwachsene  Einzelunterricht (V24260210) 
LOCATION:GHH, 204, 2.OG, Böblinger Str. 8, 71065 Sindelfingen
END:VEVENT
BEGIN:VEVENT
DTSTAMP:20260421T003436
DTSTART;TZID=Europe/Berlin:20260327T173000
DTEND;TZID=Europe/Berlin:20260327T181500
UID:V24260210-20260327T173000@VHSBÖBLINGEN-SINDELFINGEN
SUMMARY:Klavier für Erwachsene  Einzelunterricht (V24260210) 
LOCATION:GHH, 204, 2.OG, Böblinger Str. 8, 71065 Sindelfingen
END:VEVENT
BEGIN:VEVENT
DTSTAMP:20260421T003436
DTSTART;TZID=Europe/Berlin:20260417T173000
DTEND;TZID=Europe/Berlin:20260417T181500
UID:V24260210-20260417T173000@VHSBÖBLINGEN-SINDELFINGEN
SUMMARY:Klavier für Erwachsene  Einzelunterricht (V24260210) 
LOCATION:GHH, 204, 2.OG, Böblinger Str. 8, 71065 Sindelfingen
END:VEVENT
BEGIN:VEVENT
DTSTAMP:20260421T003436
DTSTART;TZID=Europe/Berlin:20260424T173000
DTEND;TZID=Europe/Berlin:20260424T181500
UID:V24260210-20260424T173000@VHSBÖBLINGEN-SINDELFINGEN
SUMMARY:Klavier für Erwachsene  Einzelunterricht (V24260210) 
LOCATION:GHH, 204, 2.OG, Böblinger Str. 8, 71065 Sindelfingen
END:VEVENT
BEGIN:VEVENT
DTSTAMP:20260421T003436
DTSTART;TZID=Europe/Berlin:20260508T173000
DTEND;TZID=Europe/Berlin:20260508T181500
UID:V24260210-20260508T173000@VHSBÖBLINGEN-SINDELFINGEN
SUMMARY:Klavier für Erwachsene  Einzelunterricht (V24260210) 
LOCATION:GHH, 204, 2.OG, Böblinger Str. 8, 71065 Sindelfingen
END:VEVENT
BEGIN:VEVENT
DTSTAMP:20260421T003436
DTSTART;TZID=Europe/Berlin:20260515T173000
DTEND;TZID=Europe/Berlin:20260515T181500
UID:V24260210-20260515T173000@VHSBÖBLINGEN-SINDELFINGEN
SUMMARY:Klavier für Erwachsene  Einzelunterricht (V24260210) 
LOCATION:GHH, 204, 2.OG, Böblinger Str. 8, 71065 Sindelfingen
END:VEVENT
BEGIN:VEVENT
DTSTAMP:20260421T003436
DTSTART;TZID=Europe/Berlin:20260522T173000
DTEND;TZID=Europe/Berlin:20260522T181500
UID:V24260210-20260522T173000@VHSBÖBLINGEN-SINDELFINGEN
SUMMARY:Klavier für Erwachsene  Einzelunterricht (V24260210) 
LOCATION:GHH, 204, 2.OG, Böblinger Str. 8, 71065 Sindelfingen
END:VEVENT
BEGIN:VEVENT
DTSTAMP:20260421T003436
DTSTART;TZID=Europe/Berlin:20260612T173000
DTEND;TZID=Europe/Berlin:20260612T181500
UID:V24260210-20260612T173000@VHSBÖBLINGEN-SINDELFINGEN
SUMMARY:Klavier für Erwachsene  Einzelunterricht (V24260210) 
LOCATION:GHH, 204, 2.OG, Böblinger Str. 8, 71065 Sindelfingen
END:VEVENT
BEGIN:VEVENT
DTSTAMP:20260421T003436
DTSTART;TZID=Europe/Berlin:20260619T173000
DTEND;TZID=Europe/Berlin:20260619T181500
UID:V24260210-20260619T173000@VHSBÖBLINGEN-SINDELFINGEN
SUMMARY:Klavier für Erwachsene  Einzelunterricht (V24260210) 
LOCATION:GHH, 204, 2.OG, Böblinger Str. 8, 71065 Sindelfingen
END:VEVENT
BEGIN:VEVENT
DTSTAMP:20260421T003436
DTSTART;TZID=Europe/Berlin:20260626T173000
DTEND;TZID=Europe/Berlin:20260626T181500
UID:V24260210-20260626T173000@VHSBÖBLINGEN-SINDELFINGEN
SUMMARY:Klavier für Erwachsene  Einzelunterricht (V24260210) 
LOCATION:GHH, 204, 2.OG, Böblinger Str. 8, 71065 Sindelfingen
END:VEVENT
BEGIN:VEVENT
DTSTAMP:20260421T003436
DTSTART;TZID=Europe/Berlin:20260703T173000
DTEND;TZID=Europe/Berlin:20260703T181500
UID:V24260210-20260703T173000@VHSBÖBLINGEN-SINDELFINGEN
SUMMARY:Klavier für Erwachsene  Einzelunterricht (V24260210) 
LOCATION:GHH, 204, 2.OG, Böblinger Str. 8, 71065 Sindelfingen
END:VEVENT
BEGIN:VEVENT
DTSTAMP:20260421T003436
DTSTART;TZID=Europe/Berlin:20260710T173000
DTEND;TZID=Europe/Berlin:20260710T181500
UID:V24260210-20260710T173000@VHSBÖBLINGEN-SINDELFINGEN
SUMMARY:Klavier für Erwachsene  Einzelunterricht (V24260210) 
LOCATION:GHH, 204, 2.OG, Böblinger Str. 8, 71065 Sindelfingen
END:VEVENT
BEGIN:VEVENT
DTSTAMP:20260421T003436
DTSTART;TZID=Europe/Berlin:20260717T173000
DTEND;TZID=Europe/Berlin:20260717T181500
UID:V24260210-20260717T173000@VHSBÖBLINGEN-SINDELFINGEN
SUMMARY:Klavier für Erwachsene  Einzelunterricht (V24260210) 
LOCATION:GHH, 204, 2.OG, Böblinger Str. 8, 71065 Sindelfingen
END:VEVENT
BEGIN:VEVENT
DTSTAMP:20260421T003436
DTSTART;TZID=Europe/Berlin:20260724T173000
DTEND;TZID=Europe/Berlin:20260724T181500
UID:V24260210-20260724T173000@VHSBÖBLINGEN-SINDELFINGEN
SUMMARY:Klavier für Erwachsene  Einzelunterricht (V24260210) 
LOCATION:GHH, 204, 2.OG, Böblinger Str. 8, 71065 Sindelfingen
END:VEVENT
END:VCALENDAR