BEGIN:VCALENDAR
VERSION:2.0
PRODID:https://www.kufer.de/kuferweb / DE
METHOD:PUBLISH
CALSCALE:GREGORIAN
X-WR-TIMEZONE:Europe/Berlin
BEGIN:VTIMEZONE
TZID:Europe/Berlin
X-LIC-LOCATION:Europe/Berlin
BEGIN:DAYLIGHT
TZOFFSETFROM:+0100
TZOFFSETTO:+0200
TZNAME:CEST
DTSTART:19700329T020000
RRULE:FREQ=YEARLY;INTERVAL=1;BYDAY=-1SU;BYMONTH=3
END:DAYLIGHT
BEGIN:STANDARD
TZOFFSETFROM:+0200
TZOFFSETTO:+0100
TZNAME:CET
DTSTART:19701025T030000
RRULE:FREQ=YEARLY;INTERVAL=1;BYDAY=-1SU;BYMONTH=10
END:STANDARD
END:VTIMEZONE
BEGIN:VEVENT
DTSTAMP:20260421T004035
DTSTART;TZID=Europe/Berlin:20260313T163000
DTEND;TZID=Europe/Berlin:20260313T173000
UID:V24260110-20260313T163000@VHSBÖBLINGEN-SINDELFINGEN
SUMMARY:Klavier für Erwachsene  Einzelunterricht (V24260110) 
LOCATION:GHH, 204, 2.OG, Böblinger Str. 8, 71065 Sindelfingen
END:VEVENT
BEGIN:VEVENT
DTSTAMP:20260421T004035
DTSTART;TZID=Europe/Berlin:20260327T163000
DTEND;TZID=Europe/Berlin:20260327T173000
UID:V24260110-20260327T163000@VHSBÖBLINGEN-SINDELFINGEN
SUMMARY:Klavier für Erwachsene  Einzelunterricht (V24260110) 
LOCATION:GHH, 204, 2.OG, Böblinger Str. 8, 71065 Sindelfingen
END:VEVENT
BEGIN:VEVENT
DTSTAMP:20260421T004035
DTSTART;TZID=Europe/Berlin:20260424T163000
DTEND;TZID=Europe/Berlin:20260424T173000
UID:V24260110-20260424T163000@VHSBÖBLINGEN-SINDELFINGEN
SUMMARY:Klavier für Erwachsene  Einzelunterricht (V24260110) 
LOCATION:GHH, 204, 2.OG, Böblinger Str. 8, 71065 Sindelfingen
END:VEVENT
BEGIN:VEVENT
DTSTAMP:20260421T004035
DTSTART;TZID=Europe/Berlin:20260508T163000
DTEND;TZID=Europe/Berlin:20260508T173000
UID:V24260110-20260508T163000@VHSBÖBLINGEN-SINDELFINGEN
SUMMARY:Klavier für Erwachsene  Einzelunterricht (V24260110) 
LOCATION:GHH, 204, 2.OG, Böblinger Str. 8, 71065 Sindelfingen
END:VEVENT
BEGIN:VEVENT
DTSTAMP:20260421T004035
DTSTART;TZID=Europe/Berlin:20260522T163000
DTEND;TZID=Europe/Berlin:20260522T173000
UID:V24260110-20260522T163000@VHSBÖBLINGEN-SINDELFINGEN
SUMMARY:Klavier für Erwachsene  Einzelunterricht (V24260110) 
LOCATION:GHH, 204, 2.OG, Böblinger Str. 8, 71065 Sindelfingen
END:VEVENT
BEGIN:VEVENT
DTSTAMP:20260421T004035
DTSTART;TZID=Europe/Berlin:20260619T163000
DTEND;TZID=Europe/Berlin:20260619T173000
UID:V24260110-20260619T163000@VHSBÖBLINGEN-SINDELFINGEN
SUMMARY:Klavier für Erwachsene  Einzelunterricht (V24260110) 
LOCATION:GHH, 204, 2.OG, Böblinger Str. 8, 71065 Sindelfingen
END:VEVENT
BEGIN:VEVENT
DTSTAMP:20260421T004035
DTSTART;TZID=Europe/Berlin:20260703T163000
DTEND;TZID=Europe/Berlin:20260703T173000
UID:V24260110-20260703T163000@VHSBÖBLINGEN-SINDELFINGEN
SUMMARY:Klavier für Erwachsene  Einzelunterricht (V24260110) 
LOCATION:GHH, 204, 2.OG, Böblinger Str. 8, 71065 Sindelfingen
END:VEVENT
BEGIN:VEVENT
DTSTAMP:20260421T004035
DTSTART;TZID=Europe/Berlin:20260717T163000
DTEND;TZID=Europe/Berlin:20260717T173000
UID:V24260110-20260717T163000@VHSBÖBLINGEN-SINDELFINGEN
SUMMARY:Klavier für Erwachsene  Einzelunterricht (V24260110) 
LOCATION:GHH, 204, 2.OG, Böblinger Str. 8, 71065 Sindelfingen
END:VEVENT
END:VCALENDAR