BEGIN:VCALENDAR
VERSION:2.0
PRODID:https://www.kufer.de/kuferweb / DE
METHOD:PUBLISH
CALSCALE:GREGORIAN
X-WR-TIMEZONE:Europe/Berlin
BEGIN:VTIMEZONE
TZID:Europe/Berlin
X-LIC-LOCATION:Europe/Berlin
BEGIN:DAYLIGHT
TZOFFSETFROM:+0100
TZOFFSETTO:+0200
TZNAME:CEST
DTSTART:19700329T020000
RRULE:FREQ=YEARLY;INTERVAL=1;BYDAY=-1SU;BYMONTH=3
END:DAYLIGHT
BEGIN:STANDARD
TZOFFSETFROM:+0200
TZOFFSETTO:+0100
TZNAME:CET
DTSTART:19701025T030000
RRULE:FREQ=YEARLY;INTERVAL=1;BYDAY=-1SU;BYMONTH=10
END:STANDARD
END:VTIMEZONE
BEGIN:VEVENT
DTSTAMP:20260421T003213
DTSTART;TZID=Europe/Berlin:20260306T163000
DTEND;TZID=Europe/Berlin:20260306T173000
UID:V24260010-20260306T163000@VHSBÖBLINGEN-SINDELFINGEN
SUMMARY:Klavier für Erwachsene  Einzelunterricht (V24260010) 
LOCATION:GHH, 204, 2.OG, Böblinger Str. 8, 71065 Sindelfingen
END:VEVENT
BEGIN:VEVENT
DTSTAMP:20260421T003213
DTSTART;TZID=Europe/Berlin:20260320T163000
DTEND;TZID=Europe/Berlin:20260320T173000
UID:V24260010-20260320T163000@VHSBÖBLINGEN-SINDELFINGEN
SUMMARY:Klavier für Erwachsene  Einzelunterricht (V24260010) 
LOCATION:GHH, 204, 2.OG, Böblinger Str. 8, 71065 Sindelfingen
END:VEVENT
BEGIN:VEVENT
DTSTAMP:20260421T003213
DTSTART;TZID=Europe/Berlin:20260417T163000
DTEND;TZID=Europe/Berlin:20260417T173000
UID:V24260010-20260417T163000@VHSBÖBLINGEN-SINDELFINGEN
SUMMARY:Klavier für Erwachsene  Einzelunterricht (V24260010) 
LOCATION:GHH, 204, 2.OG, Böblinger Str. 8, 71065 Sindelfingen
END:VEVENT
BEGIN:VEVENT
DTSTAMP:20260421T003213
DTSTART;TZID=Europe/Berlin:20260515T163000
DTEND;TZID=Europe/Berlin:20260515T173000
UID:V24260010-20260515T163000@VHSBÖBLINGEN-SINDELFINGEN
SUMMARY:Klavier für Erwachsene  Einzelunterricht (V24260010) 
LOCATION:GHH, 204, 2.OG, Böblinger Str. 8, 71065 Sindelfingen
END:VEVENT
BEGIN:VEVENT
DTSTAMP:20260421T003213
DTSTART;TZID=Europe/Berlin:20260612T163000
DTEND;TZID=Europe/Berlin:20260612T173000
UID:V24260010-20260612T163000@VHSBÖBLINGEN-SINDELFINGEN
SUMMARY:Klavier für Erwachsene  Einzelunterricht (V24260010) 
LOCATION:GHH, 204, 2.OG, Böblinger Str. 8, 71065 Sindelfingen
END:VEVENT
BEGIN:VEVENT
DTSTAMP:20260421T003213
DTSTART;TZID=Europe/Berlin:20260626T163000
DTEND;TZID=Europe/Berlin:20260626T173000
UID:V24260010-20260626T163000@VHSBÖBLINGEN-SINDELFINGEN
SUMMARY:Klavier für Erwachsene  Einzelunterricht (V24260010) 
LOCATION:GHH, 204, 2.OG, Böblinger Str. 8, 71065 Sindelfingen
END:VEVENT
BEGIN:VEVENT
DTSTAMP:20260421T003213
DTSTART;TZID=Europe/Berlin:20260710T163000
DTEND;TZID=Europe/Berlin:20260710T173000
UID:V24260010-20260710T163000@VHSBÖBLINGEN-SINDELFINGEN
SUMMARY:Klavier für Erwachsene  Einzelunterricht (V24260010) 
LOCATION:GHH, 204, 2.OG, Böblinger Str. 8, 71065 Sindelfingen
END:VEVENT
BEGIN:VEVENT
DTSTAMP:20260421T003213
DTSTART;TZID=Europe/Berlin:20260724T163000
DTEND;TZID=Europe/Berlin:20260724T173000
UID:V24260010-20260724T163000@VHSBÖBLINGEN-SINDELFINGEN
SUMMARY:Klavier für Erwachsene  Einzelunterricht (V24260010) 
LOCATION:GHH, 204, 2.OG, Böblinger Str. 8, 71065 Sindelfingen
END:VEVENT
END:VCALENDAR