BEGIN:VCALENDAR
VERSION:2.0
PRODID:https://www.kufer.de/kuferweb / DE
METHOD:PUBLISH
CALSCALE:GREGORIAN
X-WR-TIMEZONE:Europe/Berlin
BEGIN:VTIMEZONE
TZID:Europe/Berlin
X-LIC-LOCATION:Europe/Berlin
BEGIN:DAYLIGHT
TZOFFSETFROM:+0100
TZOFFSETTO:+0200
TZNAME:CEST
DTSTART:19700329T020000
RRULE:FREQ=YEARLY;INTERVAL=1;BYDAY=-1SU;BYMONTH=3
END:DAYLIGHT
BEGIN:STANDARD
TZOFFSETFROM:+0200
TZOFFSETTO:+0100
TZNAME:CET
DTSTART:19701025T030000
RRULE:FREQ=YEARLY;INTERVAL=1;BYDAY=-1SU;BYMONTH=10
END:STANDARD
END:VTIMEZONE
BEGIN:VEVENT
DTSTAMP:20260421T141813
DTSTART;TZID=Europe/Berlin:20260228T103000
DTEND;TZID=Europe/Berlin:20260228T110000
UID:V24255410-20260228T103000@VHSBÖBLINGEN-SINDELFINGEN
SUMMARY:Klavier für Erwachsene Einzelunterricht für Ersteinsteigerinnen und Ersteinsteiger (V24255410) 
LOCATION:Höfle, 106, 1. OG, Pestalozzistr. 4, 71032 Böblingen
END:VEVENT
BEGIN:VEVENT
DTSTAMP:20260421T141813
DTSTART;TZID=Europe/Berlin:20260306T183000
DTEND;TZID=Europe/Berlin:20260306T190000
UID:V24255410-20260306T183000@VHSBÖBLINGEN-SINDELFINGEN
SUMMARY:Klavier für Erwachsene Einzelunterricht für Ersteinsteigerinnen und Ersteinsteiger (V24255410) 
LOCATION:vhs.Studio, Pestalozzistr. 4, 71032 Böblingen
END:VEVENT
BEGIN:VEVENT
DTSTAMP:20260421T141813
DTSTART;TZID=Europe/Berlin:20260313T170000
DTEND;TZID=Europe/Berlin:20260313T173000
UID:V24255410-20260313T170000@VHSBÖBLINGEN-SINDELFINGEN
SUMMARY:Klavier für Erwachsene Einzelunterricht für Ersteinsteigerinnen und Ersteinsteiger (V24255410) 
LOCATION:vhs.Studio, Pestalozzistr. 4, 71032 Böblingen
END:VEVENT
BEGIN:VEVENT
DTSTAMP:20260421T141813
DTSTART;TZID=Europe/Berlin:20260320T170000
DTEND;TZID=Europe/Berlin:20260320T173000
UID:V24255410-20260320T170000@VHSBÖBLINGEN-SINDELFINGEN
SUMMARY:Klavier für Erwachsene Einzelunterricht für Ersteinsteigerinnen und Ersteinsteiger (V24255410) 
LOCATION:vhs.Studio, Pestalozzistr. 4, 71032 Böblingen
END:VEVENT
BEGIN:VEVENT
DTSTAMP:20260421T141813
DTSTART;TZID=Europe/Berlin:20260327T170000
DTEND;TZID=Europe/Berlin:20260327T173000
UID:V24255410-20260327T170000@VHSBÖBLINGEN-SINDELFINGEN
SUMMARY:Klavier für Erwachsene Einzelunterricht für Ersteinsteigerinnen und Ersteinsteiger (V24255410) 
LOCATION:vhs.Studio, Pestalozzistr. 4, 71032 Böblingen
END:VEVENT
BEGIN:VEVENT
DTSTAMP:20260421T141813
DTSTART;TZID=Europe/Berlin:20260417T170000
DTEND;TZID=Europe/Berlin:20260417T173000
UID:V24255410-20260417T170000@VHSBÖBLINGEN-SINDELFINGEN
SUMMARY:Klavier für Erwachsene Einzelunterricht für Ersteinsteigerinnen und Ersteinsteiger (V24255410) 
LOCATION:vhs.Studio, Pestalozzistr. 4, 71032 Böblingen
END:VEVENT
BEGIN:VEVENT
DTSTAMP:20260421T141813
DTSTART;TZID=Europe/Berlin:20260424T170000
DTEND;TZID=Europe/Berlin:20260424T173000
UID:V24255410-20260424T170000@VHSBÖBLINGEN-SINDELFINGEN
SUMMARY:Klavier für Erwachsene Einzelunterricht für Ersteinsteigerinnen und Ersteinsteiger (V24255410) 
LOCATION:vhs.Studio, Pestalozzistr. 4, 71032 Böblingen
END:VEVENT
BEGIN:VEVENT
DTSTAMP:20260421T141813
DTSTART;TZID=Europe/Berlin:20260508T170000
DTEND;TZID=Europe/Berlin:20260508T173000
UID:V24255410-20260508T170000@VHSBÖBLINGEN-SINDELFINGEN
SUMMARY:Klavier für Erwachsene Einzelunterricht für Ersteinsteigerinnen und Ersteinsteiger (V24255410) 
LOCATION:vhs.Studio, Pestalozzistr. 4, 71032 Böblingen
END:VEVENT
BEGIN:VEVENT
DTSTAMP:20260421T141813
DTSTART;TZID=Europe/Berlin:20260515T170000
DTEND;TZID=Europe/Berlin:20260515T173000
UID:V24255410-20260515T170000@VHSBÖBLINGEN-SINDELFINGEN
SUMMARY:Klavier für Erwachsene Einzelunterricht für Ersteinsteigerinnen und Ersteinsteiger (V24255410) 
LOCATION:vhs.Studio, Pestalozzistr. 4, 71032 Böblingen
END:VEVENT
BEGIN:VEVENT
DTSTAMP:20260421T141813
DTSTART;TZID=Europe/Berlin:20260522T170000
DTEND;TZID=Europe/Berlin:20260522T173000
UID:V24255410-20260522T170000@VHSBÖBLINGEN-SINDELFINGEN
SUMMARY:Klavier für Erwachsene Einzelunterricht für Ersteinsteigerinnen und Ersteinsteiger (V24255410) 
LOCATION:vhs.Studio, Pestalozzistr. 4, 71032 Böblingen
END:VEVENT
BEGIN:VEVENT
DTSTAMP:20260421T141813
DTSTART;TZID=Europe/Berlin:20260612T170000
DTEND;TZID=Europe/Berlin:20260612T173000
UID:V24255410-20260612T170000@VHSBÖBLINGEN-SINDELFINGEN
SUMMARY:Klavier für Erwachsene Einzelunterricht für Ersteinsteigerinnen und Ersteinsteiger (V24255410) 
LOCATION:vhs.Studio, Pestalozzistr. 4, 71032 Böblingen
END:VEVENT
BEGIN:VEVENT
DTSTAMP:20260421T141813
DTSTART;TZID=Europe/Berlin:20260619T170000
DTEND;TZID=Europe/Berlin:20260619T173000
UID:V24255410-20260619T170000@VHSBÖBLINGEN-SINDELFINGEN
SUMMARY:Klavier für Erwachsene Einzelunterricht für Ersteinsteigerinnen und Ersteinsteiger (V24255410) 
LOCATION:vhs.Studio, Pestalozzistr. 4, 71032 Böblingen
END:VEVENT
BEGIN:VEVENT
DTSTAMP:20260421T141813
DTSTART;TZID=Europe/Berlin:20260626T170000
DTEND;TZID=Europe/Berlin:20260626T173000
UID:V24255410-20260626T170000@VHSBÖBLINGEN-SINDELFINGEN
SUMMARY:Klavier für Erwachsene Einzelunterricht für Ersteinsteigerinnen und Ersteinsteiger (V24255410) 
LOCATION:vhs.Studio, Pestalozzistr. 4, 71032 Böblingen
END:VEVENT
BEGIN:VEVENT
DTSTAMP:20260421T141813
DTSTART;TZID=Europe/Berlin:20260703T170000
DTEND;TZID=Europe/Berlin:20260703T173000
UID:V24255410-20260703T170000@VHSBÖBLINGEN-SINDELFINGEN
SUMMARY:Klavier für Erwachsene Einzelunterricht für Ersteinsteigerinnen und Ersteinsteiger (V24255410) 
LOCATION:vhs.Studio, Pestalozzistr. 4, 71032 Böblingen
END:VEVENT
BEGIN:VEVENT
DTSTAMP:20260421T141813
DTSTART;TZID=Europe/Berlin:20260710T170000
DTEND;TZID=Europe/Berlin:20260710T173000
UID:V24255410-20260710T170000@VHSBÖBLINGEN-SINDELFINGEN
SUMMARY:Klavier für Erwachsene Einzelunterricht für Ersteinsteigerinnen und Ersteinsteiger (V24255410) 
LOCATION:vhs.Studio, Pestalozzistr. 4, 71032 Böblingen
END:VEVENT
END:VCALENDAR