BEGIN:VCALENDAR
VERSION:2.0
PRODID:https://www.kufer.de/kuferweb / DE
METHOD:PUBLISH
CALSCALE:GREGORIAN
X-WR-TIMEZONE:Europe/Berlin
BEGIN:VTIMEZONE
TZID:Europe/Berlin
X-LIC-LOCATION:Europe/Berlin
BEGIN:DAYLIGHT
TZOFFSETFROM:+0100
TZOFFSETTO:+0200
TZNAME:CEST
DTSTART:19700329T020000
RRULE:FREQ=YEARLY;INTERVAL=1;BYDAY=-1SU;BYMONTH=3
END:DAYLIGHT
BEGIN:STANDARD
TZOFFSETFROM:+0200
TZOFFSETTO:+0100
TZNAME:CET
DTSTART:19701025T030000
RRULE:FREQ=YEARLY;INTERVAL=1;BYDAY=-1SU;BYMONTH=10
END:STANDARD
END:VTIMEZONE
BEGIN:VEVENT
DTSTAMP:20260421T142811
DTSTART;TZID=Europe/Berlin:20260226T193000
DTEND;TZID=Europe/Berlin:20260226T201500
UID:V24250410-20260226T193000@VHSBÖBLINGEN-SINDELFINGEN
SUMMARY:Klavier für Erwachsene Einzelunterricht (V24250410) 
LOCATION:GHH, 204, 2.OG, Böblinger Str. 8, 71065 Sindelfingen
END:VEVENT
BEGIN:VEVENT
DTSTAMP:20260421T142811
DTSTART;TZID=Europe/Berlin:20260305T193000
DTEND;TZID=Europe/Berlin:20260305T201500
UID:V24250410-20260305T193000@VHSBÖBLINGEN-SINDELFINGEN
SUMMARY:Klavier für Erwachsene Einzelunterricht (V24250410) 
LOCATION:GHH, 204, 2.OG, Böblinger Str. 8, 71065 Sindelfingen
END:VEVENT
BEGIN:VEVENT
DTSTAMP:20260421T142811
DTSTART;TZID=Europe/Berlin:20260312T193000
DTEND;TZID=Europe/Berlin:20260312T201500
UID:V24250410-20260312T193000@VHSBÖBLINGEN-SINDELFINGEN
SUMMARY:Klavier für Erwachsene Einzelunterricht (V24250410) 
LOCATION:GHH, 204, 2.OG, Böblinger Str. 8, 71065 Sindelfingen
END:VEVENT
BEGIN:VEVENT
DTSTAMP:20260421T142811
DTSTART;TZID=Europe/Berlin:20260319T193000
DTEND;TZID=Europe/Berlin:20260319T201500
UID:V24250410-20260319T193000@VHSBÖBLINGEN-SINDELFINGEN
SUMMARY:Klavier für Erwachsene Einzelunterricht (V24250410) 
LOCATION:GHH, 204, 2.OG, Böblinger Str. 8, 71065 Sindelfingen
END:VEVENT
BEGIN:VEVENT
DTSTAMP:20260421T142811
DTSTART;TZID=Europe/Berlin:20260326T193000
DTEND;TZID=Europe/Berlin:20260326T201500
UID:V24250410-20260326T193000@VHSBÖBLINGEN-SINDELFINGEN
SUMMARY:Klavier für Erwachsene Einzelunterricht (V24250410) 
LOCATION:GHH, 204, 2.OG, Böblinger Str. 8, 71065 Sindelfingen
END:VEVENT
BEGIN:VEVENT
DTSTAMP:20260421T142811
DTSTART;TZID=Europe/Berlin:20260416T193000
DTEND;TZID=Europe/Berlin:20260416T201500
UID:V24250410-20260416T193000@VHSBÖBLINGEN-SINDELFINGEN
SUMMARY:Klavier für Erwachsene Einzelunterricht (V24250410) 
LOCATION:GHH, 204, 2.OG, Böblinger Str. 8, 71065 Sindelfingen
END:VEVENT
BEGIN:VEVENT
DTSTAMP:20260421T142811
DTSTART;TZID=Europe/Berlin:20260423T193000
DTEND;TZID=Europe/Berlin:20260423T201500
UID:V24250410-20260423T193000@VHSBÖBLINGEN-SINDELFINGEN
SUMMARY:Klavier für Erwachsene Einzelunterricht (V24250410) 
LOCATION:GHH, 204, 2.OG, Böblinger Str. 8, 71065 Sindelfingen
END:VEVENT
BEGIN:VEVENT
DTSTAMP:20260421T142811
DTSTART;TZID=Europe/Berlin:20260430T193000
DTEND;TZID=Europe/Berlin:20260430T201500
UID:V24250410-20260430T193000@VHSBÖBLINGEN-SINDELFINGEN
SUMMARY:Klavier für Erwachsene Einzelunterricht (V24250410) 
LOCATION:GHH, 204, 2.OG, Böblinger Str. 8, 71065 Sindelfingen
END:VEVENT
BEGIN:VEVENT
DTSTAMP:20260421T142811
DTSTART;TZID=Europe/Berlin:20260507T193000
DTEND;TZID=Europe/Berlin:20260507T201500
UID:V24250410-20260507T193000@VHSBÖBLINGEN-SINDELFINGEN
SUMMARY:Klavier für Erwachsene Einzelunterricht (V24250410) 
LOCATION:GHH, 204, 2.OG, Böblinger Str. 8, 71065 Sindelfingen
END:VEVENT
BEGIN:VEVENT
DTSTAMP:20260421T142811
DTSTART;TZID=Europe/Berlin:20260521T193000
DTEND;TZID=Europe/Berlin:20260521T201500
UID:V24250410-20260521T193000@VHSBÖBLINGEN-SINDELFINGEN
SUMMARY:Klavier für Erwachsene Einzelunterricht (V24250410) 
LOCATION:GHH, 204, 2.OG, Böblinger Str. 8, 71065 Sindelfingen
END:VEVENT
BEGIN:VEVENT
DTSTAMP:20260421T142811
DTSTART;TZID=Europe/Berlin:20260611T193000
DTEND;TZID=Europe/Berlin:20260611T201500
UID:V24250410-20260611T193000@VHSBÖBLINGEN-SINDELFINGEN
SUMMARY:Klavier für Erwachsene Einzelunterricht (V24250410) 
LOCATION:GHH, 204, 2.OG, Böblinger Str. 8, 71065 Sindelfingen
END:VEVENT
BEGIN:VEVENT
DTSTAMP:20260421T142811
DTSTART;TZID=Europe/Berlin:20260618T193000
DTEND;TZID=Europe/Berlin:20260618T201500
UID:V24250410-20260618T193000@VHSBÖBLINGEN-SINDELFINGEN
SUMMARY:Klavier für Erwachsene Einzelunterricht (V24250410) 
LOCATION:GHH, 204, 2.OG, Böblinger Str. 8, 71065 Sindelfingen
END:VEVENT
BEGIN:VEVENT
DTSTAMP:20260421T142811
DTSTART;TZID=Europe/Berlin:20260625T193000
DTEND;TZID=Europe/Berlin:20260625T201500
UID:V24250410-20260625T193000@VHSBÖBLINGEN-SINDELFINGEN
SUMMARY:Klavier für Erwachsene Einzelunterricht (V24250410) 
LOCATION:GHH, 204, 2.OG, Böblinger Str. 8, 71065 Sindelfingen
END:VEVENT
BEGIN:VEVENT
DTSTAMP:20260421T142811
DTSTART;TZID=Europe/Berlin:20260702T193000
DTEND;TZID=Europe/Berlin:20260702T201500
UID:V24250410-20260702T193000@VHSBÖBLINGEN-SINDELFINGEN
SUMMARY:Klavier für Erwachsene Einzelunterricht (V24250410) 
LOCATION:GHH, 204, 2.OG, Böblinger Str. 8, 71065 Sindelfingen
END:VEVENT
BEGIN:VEVENT
DTSTAMP:20260421T142811
DTSTART;TZID=Europe/Berlin:20260709T193000
DTEND;TZID=Europe/Berlin:20260709T201500
UID:V24250410-20260709T193000@VHSBÖBLINGEN-SINDELFINGEN
SUMMARY:Klavier für Erwachsene Einzelunterricht (V24250410) 
LOCATION:GHH, 204, 2.OG, Böblinger Str. 8, 71065 Sindelfingen
END:VEVENT
END:VCALENDAR