BEGIN:VCALENDAR
VERSION:2.0
PRODID:https://www.kufer.de/kuferweb / DE
METHOD:PUBLISH
CALSCALE:GREGORIAN
X-WR-TIMEZONE:Europe/Berlin
BEGIN:VTIMEZONE
TZID:Europe/Berlin
X-LIC-LOCATION:Europe/Berlin
BEGIN:DAYLIGHT
TZOFFSETFROM:+0100
TZOFFSETTO:+0200
TZNAME:CEST
DTSTART:19700329T020000
RRULE:FREQ=YEARLY;INTERVAL=1;BYDAY=-1SU;BYMONTH=3
END:DAYLIGHT
BEGIN:STANDARD
TZOFFSETFROM:+0200
TZOFFSETTO:+0100
TZNAME:CET
DTSTART:19701025T030000
RRULE:FREQ=YEARLY;INTERVAL=1;BYDAY=-1SU;BYMONTH=10
END:STANDARD
END:VTIMEZONE
BEGIN:VEVENT
DTSTAMP:20260421T152136
DTSTART;TZID=Europe/Berlin:20260226T180000
DTEND;TZID=Europe/Berlin:20260226T184500
UID:V24250210-20260226T180000@VHSBÖBLINGEN-SINDELFINGEN
SUMMARY:Klavier für Erwachsene Einzelunterricht (V24250210) 
LOCATION:GHH, 204, 2.OG, Böblinger Str. 8, 71065 Sindelfingen
END:VEVENT
BEGIN:VEVENT
DTSTAMP:20260421T152136
DTSTART;TZID=Europe/Berlin:20260305T180000
DTEND;TZID=Europe/Berlin:20260305T184500
UID:V24250210-20260305T180000@VHSBÖBLINGEN-SINDELFINGEN
SUMMARY:Klavier für Erwachsene Einzelunterricht (V24250210) 
LOCATION:GHH, 204, 2.OG, Böblinger Str. 8, 71065 Sindelfingen
END:VEVENT
BEGIN:VEVENT
DTSTAMP:20260421T152136
DTSTART;TZID=Europe/Berlin:20260312T180000
DTEND;TZID=Europe/Berlin:20260312T184500
UID:V24250210-20260312T180000@VHSBÖBLINGEN-SINDELFINGEN
SUMMARY:Klavier für Erwachsene Einzelunterricht (V24250210) 
LOCATION:GHH, 204, 2.OG, Böblinger Str. 8, 71065 Sindelfingen
END:VEVENT
BEGIN:VEVENT
DTSTAMP:20260421T152136
DTSTART;TZID=Europe/Berlin:20260319T180000
DTEND;TZID=Europe/Berlin:20260319T184500
UID:V24250210-20260319T180000@VHSBÖBLINGEN-SINDELFINGEN
SUMMARY:Klavier für Erwachsene Einzelunterricht (V24250210) 
LOCATION:GHH, 204, 2.OG, Böblinger Str. 8, 71065 Sindelfingen
END:VEVENT
BEGIN:VEVENT
DTSTAMP:20260421T152136
DTSTART;TZID=Europe/Berlin:20260326T180000
DTEND;TZID=Europe/Berlin:20260326T184500
UID:V24250210-20260326T180000@VHSBÖBLINGEN-SINDELFINGEN
SUMMARY:Klavier für Erwachsene Einzelunterricht (V24250210) 
LOCATION:GHH, 204, 2.OG, Böblinger Str. 8, 71065 Sindelfingen
END:VEVENT
BEGIN:VEVENT
DTSTAMP:20260421T152136
DTSTART;TZID=Europe/Berlin:20260416T180000
DTEND;TZID=Europe/Berlin:20260416T184500
UID:V24250210-20260416T180000@VHSBÖBLINGEN-SINDELFINGEN
SUMMARY:Klavier für Erwachsene Einzelunterricht (V24250210) 
LOCATION:GHH, 204, 2.OG, Böblinger Str. 8, 71065 Sindelfingen
END:VEVENT
BEGIN:VEVENT
DTSTAMP:20260421T152136
DTSTART;TZID=Europe/Berlin:20260423T180000
DTEND;TZID=Europe/Berlin:20260423T184500
UID:V24250210-20260423T180000@VHSBÖBLINGEN-SINDELFINGEN
SUMMARY:Klavier für Erwachsene Einzelunterricht (V24250210) 
LOCATION:GHH, 204, 2.OG, Böblinger Str. 8, 71065 Sindelfingen
END:VEVENT
BEGIN:VEVENT
DTSTAMP:20260421T152136
DTSTART;TZID=Europe/Berlin:20260430T180000
DTEND;TZID=Europe/Berlin:20260430T184500
UID:V24250210-20260430T180000@VHSBÖBLINGEN-SINDELFINGEN
SUMMARY:Klavier für Erwachsene Einzelunterricht (V24250210) 
LOCATION:GHH, 204, 2.OG, Böblinger Str. 8, 71065 Sindelfingen
END:VEVENT
BEGIN:VEVENT
DTSTAMP:20260421T152136
DTSTART;TZID=Europe/Berlin:20260507T180000
DTEND;TZID=Europe/Berlin:20260507T184500
UID:V24250210-20260507T180000@VHSBÖBLINGEN-SINDELFINGEN
SUMMARY:Klavier für Erwachsene Einzelunterricht (V24250210) 
LOCATION:GHH, 204, 2.OG, Böblinger Str. 8, 71065 Sindelfingen
END:VEVENT
BEGIN:VEVENT
DTSTAMP:20260421T152136
DTSTART;TZID=Europe/Berlin:20260521T180000
DTEND;TZID=Europe/Berlin:20260521T184500
UID:V24250210-20260521T180000@VHSBÖBLINGEN-SINDELFINGEN
SUMMARY:Klavier für Erwachsene Einzelunterricht (V24250210) 
LOCATION:GHH, 204, 2.OG, Böblinger Str. 8, 71065 Sindelfingen
END:VEVENT
BEGIN:VEVENT
DTSTAMP:20260421T152136
DTSTART;TZID=Europe/Berlin:20260611T180000
DTEND;TZID=Europe/Berlin:20260611T184500
UID:V24250210-20260611T180000@VHSBÖBLINGEN-SINDELFINGEN
SUMMARY:Klavier für Erwachsene Einzelunterricht (V24250210) 
LOCATION:GHH, 204, 2.OG, Böblinger Str. 8, 71065 Sindelfingen
END:VEVENT
BEGIN:VEVENT
DTSTAMP:20260421T152136
DTSTART;TZID=Europe/Berlin:20260618T180000
DTEND;TZID=Europe/Berlin:20260618T184500
UID:V24250210-20260618T180000@VHSBÖBLINGEN-SINDELFINGEN
SUMMARY:Klavier für Erwachsene Einzelunterricht (V24250210) 
LOCATION:GHH, 204, 2.OG, Böblinger Str. 8, 71065 Sindelfingen
END:VEVENT
BEGIN:VEVENT
DTSTAMP:20260421T152136
DTSTART;TZID=Europe/Berlin:20260625T180000
DTEND;TZID=Europe/Berlin:20260625T184500
UID:V24250210-20260625T180000@VHSBÖBLINGEN-SINDELFINGEN
SUMMARY:Klavier für Erwachsene Einzelunterricht (V24250210) 
LOCATION:GHH, 204, 2.OG, Böblinger Str. 8, 71065 Sindelfingen
END:VEVENT
BEGIN:VEVENT
DTSTAMP:20260421T152136
DTSTART;TZID=Europe/Berlin:20260702T180000
DTEND;TZID=Europe/Berlin:20260702T184500
UID:V24250210-20260702T180000@VHSBÖBLINGEN-SINDELFINGEN
SUMMARY:Klavier für Erwachsene Einzelunterricht (V24250210) 
LOCATION:GHH, 204, 2.OG, Böblinger Str. 8, 71065 Sindelfingen
END:VEVENT
BEGIN:VEVENT
DTSTAMP:20260421T152136
DTSTART;TZID=Europe/Berlin:20260709T180000
DTEND;TZID=Europe/Berlin:20260709T184500
UID:V24250210-20260709T180000@VHSBÖBLINGEN-SINDELFINGEN
SUMMARY:Klavier für Erwachsene Einzelunterricht (V24250210) 
LOCATION:GHH, 204, 2.OG, Böblinger Str. 8, 71065 Sindelfingen
END:VEVENT
END:VCALENDAR