BEGIN:VCALENDAR
VERSION:2.0
PRODID:https://www.kufer.de/kuferweb / DE
METHOD:PUBLISH
CALSCALE:GREGORIAN
X-WR-TIMEZONE:Europe/Berlin
BEGIN:VTIMEZONE
TZID:Europe/Berlin
X-LIC-LOCATION:Europe/Berlin
BEGIN:DAYLIGHT
TZOFFSETFROM:+0100
TZOFFSETTO:+0200
TZNAME:CEST
DTSTART:19700329T020000
RRULE:FREQ=YEARLY;INTERVAL=1;BYDAY=-1SU;BYMONTH=3
END:DAYLIGHT
BEGIN:STANDARD
TZOFFSETFROM:+0200
TZOFFSETTO:+0100
TZNAME:CET
DTSTART:19701025T030000
RRULE:FREQ=YEARLY;INTERVAL=1;BYDAY=-1SU;BYMONTH=10
END:STANDARD
END:VTIMEZONE
BEGIN:VEVENT
DTSTAMP:20260421T151739
DTSTART;TZID=Europe/Berlin:20260226T171500
DTEND;TZID=Europe/Berlin:20260226T180000
UID:V24250110-20260226T171500@VHSBÖBLINGEN-SINDELFINGEN
SUMMARY:Klavier für Erwachsene Einzelunterricht (V24250110) 
LOCATION:GHH, 204, 2.OG, Böblinger Str. 8, 71065 Sindelfingen
END:VEVENT
BEGIN:VEVENT
DTSTAMP:20260421T151739
DTSTART;TZID=Europe/Berlin:20260305T171500
DTEND;TZID=Europe/Berlin:20260305T180000
UID:V24250110-20260305T171500@VHSBÖBLINGEN-SINDELFINGEN
SUMMARY:Klavier für Erwachsene Einzelunterricht (V24250110) 
LOCATION:GHH, 204, 2.OG, Böblinger Str. 8, 71065 Sindelfingen
END:VEVENT
BEGIN:VEVENT
DTSTAMP:20260421T151739
DTSTART;TZID=Europe/Berlin:20260312T171500
DTEND;TZID=Europe/Berlin:20260312T180000
UID:V24250110-20260312T171500@VHSBÖBLINGEN-SINDELFINGEN
SUMMARY:Klavier für Erwachsene Einzelunterricht (V24250110) 
LOCATION:GHH, 204, 2.OG, Böblinger Str. 8, 71065 Sindelfingen
END:VEVENT
BEGIN:VEVENT
DTSTAMP:20260421T151739
DTSTART;TZID=Europe/Berlin:20260319T171500
DTEND;TZID=Europe/Berlin:20260319T180000
UID:V24250110-20260319T171500@VHSBÖBLINGEN-SINDELFINGEN
SUMMARY:Klavier für Erwachsene Einzelunterricht (V24250110) 
LOCATION:GHH, 204, 2.OG, Böblinger Str. 8, 71065 Sindelfingen
END:VEVENT
BEGIN:VEVENT
DTSTAMP:20260421T151739
DTSTART;TZID=Europe/Berlin:20260326T171500
DTEND;TZID=Europe/Berlin:20260326T180000
UID:V24250110-20260326T171500@VHSBÖBLINGEN-SINDELFINGEN
SUMMARY:Klavier für Erwachsene Einzelunterricht (V24250110) 
LOCATION:GHH, 204, 2.OG, Böblinger Str. 8, 71065 Sindelfingen
END:VEVENT
BEGIN:VEVENT
DTSTAMP:20260421T151739
DTSTART;TZID=Europe/Berlin:20260416T171500
DTEND;TZID=Europe/Berlin:20260416T180000
UID:V24250110-20260416T171500@VHSBÖBLINGEN-SINDELFINGEN
SUMMARY:Klavier für Erwachsene Einzelunterricht (V24250110) 
LOCATION:GHH, 204, 2.OG, Böblinger Str. 8, 71065 Sindelfingen
END:VEVENT
BEGIN:VEVENT
DTSTAMP:20260421T151739
DTSTART;TZID=Europe/Berlin:20260423T171500
DTEND;TZID=Europe/Berlin:20260423T180000
UID:V24250110-20260423T171500@VHSBÖBLINGEN-SINDELFINGEN
SUMMARY:Klavier für Erwachsene Einzelunterricht (V24250110) 
LOCATION:GHH, 204, 2.OG, Böblinger Str. 8, 71065 Sindelfingen
END:VEVENT
BEGIN:VEVENT
DTSTAMP:20260421T151739
DTSTART;TZID=Europe/Berlin:20260430T171500
DTEND;TZID=Europe/Berlin:20260430T180000
UID:V24250110-20260430T171500@VHSBÖBLINGEN-SINDELFINGEN
SUMMARY:Klavier für Erwachsene Einzelunterricht (V24250110) 
LOCATION:GHH, 204, 2.OG, Böblinger Str. 8, 71065 Sindelfingen
END:VEVENT
BEGIN:VEVENT
DTSTAMP:20260421T151739
DTSTART;TZID=Europe/Berlin:20260507T171500
DTEND;TZID=Europe/Berlin:20260507T180000
UID:V24250110-20260507T171500@VHSBÖBLINGEN-SINDELFINGEN
SUMMARY:Klavier für Erwachsene Einzelunterricht (V24250110) 
LOCATION:GHH, 204, 2.OG, Böblinger Str. 8, 71065 Sindelfingen
END:VEVENT
BEGIN:VEVENT
DTSTAMP:20260421T151739
DTSTART;TZID=Europe/Berlin:20260521T171500
DTEND;TZID=Europe/Berlin:20260521T180000
UID:V24250110-20260521T171500@VHSBÖBLINGEN-SINDELFINGEN
SUMMARY:Klavier für Erwachsene Einzelunterricht (V24250110) 
LOCATION:GHH, 204, 2.OG, Böblinger Str. 8, 71065 Sindelfingen
END:VEVENT
BEGIN:VEVENT
DTSTAMP:20260421T151739
DTSTART;TZID=Europe/Berlin:20260611T171500
DTEND;TZID=Europe/Berlin:20260611T180000
UID:V24250110-20260611T171500@VHSBÖBLINGEN-SINDELFINGEN
SUMMARY:Klavier für Erwachsene Einzelunterricht (V24250110) 
LOCATION:GHH, 204, 2.OG, Böblinger Str. 8, 71065 Sindelfingen
END:VEVENT
BEGIN:VEVENT
DTSTAMP:20260421T151739
DTSTART;TZID=Europe/Berlin:20260618T171500
DTEND;TZID=Europe/Berlin:20260618T180000
UID:V24250110-20260618T171500@VHSBÖBLINGEN-SINDELFINGEN
SUMMARY:Klavier für Erwachsene Einzelunterricht (V24250110) 
LOCATION:GHH, 204, 2.OG, Böblinger Str. 8, 71065 Sindelfingen
END:VEVENT
BEGIN:VEVENT
DTSTAMP:20260421T151739
DTSTART;TZID=Europe/Berlin:20260625T171500
DTEND;TZID=Europe/Berlin:20260625T180000
UID:V24250110-20260625T171500@VHSBÖBLINGEN-SINDELFINGEN
SUMMARY:Klavier für Erwachsene Einzelunterricht (V24250110) 
LOCATION:GHH, 204, 2.OG, Böblinger Str. 8, 71065 Sindelfingen
END:VEVENT
BEGIN:VEVENT
DTSTAMP:20260421T151739
DTSTART;TZID=Europe/Berlin:20260702T171500
DTEND;TZID=Europe/Berlin:20260702T180000
UID:V24250110-20260702T171500@VHSBÖBLINGEN-SINDELFINGEN
SUMMARY:Klavier für Erwachsene Einzelunterricht (V24250110) 
LOCATION:GHH, 204, 2.OG, Böblinger Str. 8, 71065 Sindelfingen
END:VEVENT
BEGIN:VEVENT
DTSTAMP:20260421T151739
DTSTART;TZID=Europe/Berlin:20260709T171500
DTEND;TZID=Europe/Berlin:20260709T180000
UID:V24250110-20260709T171500@VHSBÖBLINGEN-SINDELFINGEN
SUMMARY:Klavier für Erwachsene Einzelunterricht (V24250110) 
LOCATION:GHH, 204, 2.OG, Böblinger Str. 8, 71065 Sindelfingen
END:VEVENT
END:VCALENDAR