BEGIN:VCALENDAR
VERSION:2.0
PRODID:https://www.kufer.de/kuferweb / DE
METHOD:PUBLISH
CALSCALE:GREGORIAN
X-WR-TIMEZONE:Europe/Berlin
BEGIN:VTIMEZONE
TZID:Europe/Berlin
X-LIC-LOCATION:Europe/Berlin
BEGIN:DAYLIGHT
TZOFFSETFROM:+0100
TZOFFSETTO:+0200
TZNAME:CEST
DTSTART:19700329T020000
RRULE:FREQ=YEARLY;INTERVAL=1;BYDAY=-1SU;BYMONTH=3
END:DAYLIGHT
BEGIN:STANDARD
TZOFFSETFROM:+0200
TZOFFSETTO:+0100
TZNAME:CET
DTSTART:19701025T030000
RRULE:FREQ=YEARLY;INTERVAL=1;BYDAY=-1SU;BYMONTH=10
END:STANDARD
END:VTIMEZONE
BEGIN:VEVENT
DTSTAMP:20260420T170623
DTSTART;TZID=Europe/Berlin:20260225T133000
DTEND;TZID=Europe/Berlin:20260225T143000
UID:V24242010-20260225T133000@VHSBÖBLINGEN-SINDELFINGEN
SUMMARY:Klavier für Erwachsene Einzelunterricht (V24242010) 
LOCATION:vhs.Studio, Pestalozzistr. 4, 71032 Böblingen
END:VEVENT
BEGIN:VEVENT
DTSTAMP:20260420T170623
DTSTART;TZID=Europe/Berlin:20260304T133000
DTEND;TZID=Europe/Berlin:20260304T143000
UID:V24242010-20260304T133000@VHSBÖBLINGEN-SINDELFINGEN
SUMMARY:Klavier für Erwachsene Einzelunterricht (V24242010) 
LOCATION:vhs.Studio, Pestalozzistr. 4, 71032 Böblingen
END:VEVENT
BEGIN:VEVENT
DTSTAMP:20260420T170623
DTSTART;TZID=Europe/Berlin:20260311T133000
DTEND;TZID=Europe/Berlin:20260311T143000
UID:V24242010-20260311T133000@VHSBÖBLINGEN-SINDELFINGEN
SUMMARY:Klavier für Erwachsene Einzelunterricht (V24242010) 
LOCATION:vhs.Studio, Pestalozzistr. 4, 71032 Böblingen
END:VEVENT
BEGIN:VEVENT
DTSTAMP:20260420T170623
DTSTART;TZID=Europe/Berlin:20260318T133000
DTEND;TZID=Europe/Berlin:20260318T143000
UID:V24242010-20260318T133000@VHSBÖBLINGEN-SINDELFINGEN
SUMMARY:Klavier für Erwachsene Einzelunterricht (V24242010) 
LOCATION:vhs.Studio, Pestalozzistr. 4, 71032 Böblingen
END:VEVENT
BEGIN:VEVENT
DTSTAMP:20260420T170623
DTSTART;TZID=Europe/Berlin:20260325T133000
DTEND;TZID=Europe/Berlin:20260325T143000
UID:V24242010-20260325T133000@VHSBÖBLINGEN-SINDELFINGEN
SUMMARY:Klavier für Erwachsene Einzelunterricht (V24242010) 
LOCATION:vhs.Studio, Pestalozzistr. 4, 71032 Böblingen
END:VEVENT
BEGIN:VEVENT
DTSTAMP:20260420T170623
DTSTART;TZID=Europe/Berlin:20260415T133000
DTEND;TZID=Europe/Berlin:20260415T143000
UID:V24242010-20260415T133000@VHSBÖBLINGEN-SINDELFINGEN
SUMMARY:Klavier für Erwachsene Einzelunterricht (V24242010) 
LOCATION:vhs.Studio, Pestalozzistr. 4, 71032 Böblingen
END:VEVENT
BEGIN:VEVENT
DTSTAMP:20260420T170623
DTSTART;TZID=Europe/Berlin:20260422T133000
DTEND;TZID=Europe/Berlin:20260422T143000
UID:V24242010-20260422T133000@VHSBÖBLINGEN-SINDELFINGEN
SUMMARY:Klavier für Erwachsene Einzelunterricht (V24242010) 
LOCATION:vhs.Studio, Pestalozzistr. 4, 71032 Böblingen
END:VEVENT
BEGIN:VEVENT
DTSTAMP:20260420T170623
DTSTART;TZID=Europe/Berlin:20260429T133000
DTEND;TZID=Europe/Berlin:20260429T143000
UID:V24242010-20260429T133000@VHSBÖBLINGEN-SINDELFINGEN
SUMMARY:Klavier für Erwachsene Einzelunterricht (V24242010) 
LOCATION:vhs.Studio, Pestalozzistr. 4, 71032 Böblingen
END:VEVENT
BEGIN:VEVENT
DTSTAMP:20260420T170623
DTSTART;TZID=Europe/Berlin:20260506T133000
DTEND;TZID=Europe/Berlin:20260506T143000
UID:V24242010-20260506T133000@VHSBÖBLINGEN-SINDELFINGEN
SUMMARY:Klavier für Erwachsene Einzelunterricht (V24242010) 
LOCATION:vhs.Studio, Pestalozzistr. 4, 71032 Böblingen
END:VEVENT
BEGIN:VEVENT
DTSTAMP:20260420T170623
DTSTART;TZID=Europe/Berlin:20260513T133000
DTEND;TZID=Europe/Berlin:20260513T143000
UID:V24242010-20260513T133000@VHSBÖBLINGEN-SINDELFINGEN
SUMMARY:Klavier für Erwachsene Einzelunterricht (V24242010) 
LOCATION:vhs.Studio, Pestalozzistr. 4, 71032 Böblingen
END:VEVENT
END:VCALENDAR