BEGIN:VCALENDAR
VERSION:2.0
PRODID:https://www.kufer.de/kuferweb / DE
METHOD:PUBLISH
CALSCALE:GREGORIAN
X-WR-TIMEZONE:Europe/Berlin
BEGIN:VTIMEZONE
TZID:Europe/Berlin
X-LIC-LOCATION:Europe/Berlin
BEGIN:DAYLIGHT
TZOFFSETFROM:+0100
TZOFFSETTO:+0200
TZNAME:CEST
DTSTART:19700329T020000
RRULE:FREQ=YEARLY;INTERVAL=1;BYDAY=-1SU;BYMONTH=3
END:DAYLIGHT
BEGIN:STANDARD
TZOFFSETFROM:+0200
TZOFFSETTO:+0100
TZNAME:CET
DTSTART:19701025T030000
RRULE:FREQ=YEARLY;INTERVAL=1;BYDAY=-1SU;BYMONTH=10
END:STANDARD
END:VTIMEZONE
BEGIN:VEVENT
DTSTAMP:20260420T225118
DTSTART;TZID=Europe/Berlin:20260303T190000
DTEND;TZID=Europe/Berlin:20260303T193000
UID:V24240610-20260303T190000@VHSBÖBLINGEN-SINDELFINGEN
SUMMARY:Klavier für Erwachsene  Einzelunterricht (V24240610) 
LOCATION:vhs.Studio, Pestalozzistr. 4, 71032 Böblingen
END:VEVENT
BEGIN:VEVENT
DTSTAMP:20260420T225118
DTSTART;TZID=Europe/Berlin:20260310T190000
DTEND;TZID=Europe/Berlin:20260310T193000
UID:V24240610-20260310T190000@VHSBÖBLINGEN-SINDELFINGEN
SUMMARY:Klavier für Erwachsene  Einzelunterricht (V24240610) 
LOCATION:vhs.Studio, Pestalozzistr. 4, 71032 Böblingen
END:VEVENT
BEGIN:VEVENT
DTSTAMP:20260420T225118
DTSTART;TZID=Europe/Berlin:20260317T190000
DTEND;TZID=Europe/Berlin:20260317T193000
UID:V24240610-20260317T190000@VHSBÖBLINGEN-SINDELFINGEN
SUMMARY:Klavier für Erwachsene  Einzelunterricht (V24240610) 
LOCATION:vhs.Studio, Pestalozzistr. 4, 71032 Böblingen
END:VEVENT
BEGIN:VEVENT
DTSTAMP:20260420T225118
DTSTART;TZID=Europe/Berlin:20260324T190000
DTEND;TZID=Europe/Berlin:20260324T193000
UID:V24240610-20260324T190000@VHSBÖBLINGEN-SINDELFINGEN
SUMMARY:Klavier für Erwachsene  Einzelunterricht (V24240610) 
LOCATION:vhs.Studio, Pestalozzistr. 4, 71032 Böblingen
END:VEVENT
BEGIN:VEVENT
DTSTAMP:20260420T225118
DTSTART;TZID=Europe/Berlin:20260414T190000
DTEND;TZID=Europe/Berlin:20260414T193000
UID:V24240610-20260414T190000@VHSBÖBLINGEN-SINDELFINGEN
SUMMARY:Klavier für Erwachsene  Einzelunterricht (V24240610) 
LOCATION:vhs.Studio, Pestalozzistr. 4, 71032 Böblingen
END:VEVENT
BEGIN:VEVENT
DTSTAMP:20260420T225118
DTSTART;TZID=Europe/Berlin:20260421T190000
DTEND;TZID=Europe/Berlin:20260421T193000
UID:V24240610-20260421T190000@VHSBÖBLINGEN-SINDELFINGEN
SUMMARY:Klavier für Erwachsene  Einzelunterricht (V24240610) 
LOCATION:vhs.Studio, Pestalozzistr. 4, 71032 Böblingen
END:VEVENT
BEGIN:VEVENT
DTSTAMP:20260420T225118
DTSTART;TZID=Europe/Berlin:20260428T190000
DTEND;TZID=Europe/Berlin:20260428T193000
UID:V24240610-20260428T190000@VHSBÖBLINGEN-SINDELFINGEN
SUMMARY:Klavier für Erwachsene  Einzelunterricht (V24240610) 
LOCATION:vhs.Studio, Pestalozzistr. 4, 71032 Böblingen
END:VEVENT
BEGIN:VEVENT
DTSTAMP:20260420T225118
DTSTART;TZID=Europe/Berlin:20260505T190000
DTEND;TZID=Europe/Berlin:20260505T193000
UID:V24240610-20260505T190000@VHSBÖBLINGEN-SINDELFINGEN
SUMMARY:Klavier für Erwachsene  Einzelunterricht (V24240610) 
LOCATION:vhs.Studio, Pestalozzistr. 4, 71032 Böblingen
END:VEVENT
BEGIN:VEVENT
DTSTAMP:20260420T225118
DTSTART;TZID=Europe/Berlin:20260512T190000
DTEND;TZID=Europe/Berlin:20260512T193000
UID:V24240610-20260512T190000@VHSBÖBLINGEN-SINDELFINGEN
SUMMARY:Klavier für Erwachsene  Einzelunterricht (V24240610) 
LOCATION:vhs.Studio, Pestalozzistr. 4, 71032 Böblingen
END:VEVENT
BEGIN:VEVENT
DTSTAMP:20260420T225118
DTSTART;TZID=Europe/Berlin:20260519T190000
DTEND;TZID=Europe/Berlin:20260519T193000
UID:V24240610-20260519T190000@VHSBÖBLINGEN-SINDELFINGEN
SUMMARY:Klavier für Erwachsene  Einzelunterricht (V24240610) 
LOCATION:vhs.Studio, Pestalozzistr. 4, 71032 Böblingen
END:VEVENT
BEGIN:VEVENT
DTSTAMP:20260420T225118
DTSTART;TZID=Europe/Berlin:20260609T190000
DTEND;TZID=Europe/Berlin:20260609T193000
UID:V24240610-20260609T190000@VHSBÖBLINGEN-SINDELFINGEN
SUMMARY:Klavier für Erwachsene  Einzelunterricht (V24240610) 
LOCATION:vhs.Studio, Pestalozzistr. 4, 71032 Böblingen
END:VEVENT
BEGIN:VEVENT
DTSTAMP:20260420T225118
DTSTART;TZID=Europe/Berlin:20260616T190000
DTEND;TZID=Europe/Berlin:20260616T193000
UID:V24240610-20260616T190000@VHSBÖBLINGEN-SINDELFINGEN
SUMMARY:Klavier für Erwachsene  Einzelunterricht (V24240610) 
LOCATION:vhs.Studio, Pestalozzistr. 4, 71032 Böblingen
END:VEVENT
BEGIN:VEVENT
DTSTAMP:20260420T225118
DTSTART;TZID=Europe/Berlin:20260623T190000
DTEND;TZID=Europe/Berlin:20260623T193000
UID:V24240610-20260623T190000@VHSBÖBLINGEN-SINDELFINGEN
SUMMARY:Klavier für Erwachsene  Einzelunterricht (V24240610) 
LOCATION:vhs.Studio, Pestalozzistr. 4, 71032 Böblingen
END:VEVENT
BEGIN:VEVENT
DTSTAMP:20260420T225118
DTSTART;TZID=Europe/Berlin:20260630T190000
DTEND;TZID=Europe/Berlin:20260630T193000
UID:V24240610-20260630T190000@VHSBÖBLINGEN-SINDELFINGEN
SUMMARY:Klavier für Erwachsene  Einzelunterricht (V24240610) 
LOCATION:vhs.Studio, Pestalozzistr. 4, 71032 Böblingen
END:VEVENT
BEGIN:VEVENT
DTSTAMP:20260420T225118
DTSTART;TZID=Europe/Berlin:20260707T190000
DTEND;TZID=Europe/Berlin:20260707T193000
UID:V24240610-20260707T190000@VHSBÖBLINGEN-SINDELFINGEN
SUMMARY:Klavier für Erwachsene  Einzelunterricht (V24240610) 
LOCATION:vhs.Studio, Pestalozzistr. 4, 71032 Böblingen
END:VEVENT
BEGIN:VEVENT
DTSTAMP:20260420T225118
DTSTART;TZID=Europe/Berlin:20260714T190000
DTEND;TZID=Europe/Berlin:20260714T193000
UID:V24240610-20260714T190000@VHSBÖBLINGEN-SINDELFINGEN
SUMMARY:Klavier für Erwachsene  Einzelunterricht (V24240610) 
LOCATION:vhs.Studio, Pestalozzistr. 4, 71032 Böblingen
END:VEVENT
END:VCALENDAR