BEGIN:VCALENDAR
VERSION:2.0
PRODID:https://www.kufer.de/kuferweb / DE
METHOD:PUBLISH
CALSCALE:GREGORIAN
X-WR-TIMEZONE:Europe/Berlin
BEGIN:VTIMEZONE
TZID:Europe/Berlin
X-LIC-LOCATION:Europe/Berlin
BEGIN:DAYLIGHT
TZOFFSETFROM:+0100
TZOFFSETTO:+0200
TZNAME:CEST
DTSTART:19700329T020000
RRULE:FREQ=YEARLY;INTERVAL=1;BYDAY=-1SU;BYMONTH=3
END:DAYLIGHT
BEGIN:STANDARD
TZOFFSETFROM:+0200
TZOFFSETTO:+0100
TZNAME:CET
DTSTART:19701025T030000
RRULE:FREQ=YEARLY;INTERVAL=1;BYDAY=-1SU;BYMONTH=10
END:STANDARD
END:VTIMEZONE
BEGIN:VEVENT
DTSTAMP:20260421T005652
DTSTART;TZID=Europe/Berlin:20260717T130000
DTEND;TZID=Europe/Berlin:20260717T150000
UID:V23932510K-20260717T130000@VHSBÖBLINGEN-SINDELFINGEN
SUMMARY:Die kunterbunte Welt der Geschichten  Malen für Kinder von 6 bis 10 Jahren (V23932510K) 
LOCATION:GHH, 205, 2.OG, Böblinger Str. 8, 71065 Sindelfingen
END:VEVENT
BEGIN:VEVENT
DTSTAMP:20260421T005652
DTSTART;TZID=Europe/Berlin:20260718T130000
DTEND;TZID=Europe/Berlin:20260718T150000
UID:V23932510K-20260718T130000@VHSBÖBLINGEN-SINDELFINGEN
SUMMARY:Die kunterbunte Welt der Geschichten  Malen für Kinder von 6 bis 10 Jahren (V23932510K) 
LOCATION:GHH, 205, 2.OG, Böblinger Str. 8, 71065 Sindelfingen
END:VEVENT
END:VCALENDAR