BEGIN:VCALENDAR
VERSION:2.0
PRODID:https://www.kufer.de/kuferweb / DE
METHOD:PUBLISH
CALSCALE:GREGORIAN
X-WR-TIMEZONE:Europe/Berlin
BEGIN:VTIMEZONE
TZID:Europe/Berlin
X-LIC-LOCATION:Europe/Berlin
BEGIN:DAYLIGHT
TZOFFSETFROM:+0100
TZOFFSETTO:+0200
TZNAME:CEST
DTSTART:19700329T020000
RRULE:FREQ=YEARLY;INTERVAL=1;BYDAY=-1SU;BYMONTH=3
END:DAYLIGHT
BEGIN:STANDARD
TZOFFSETFROM:+0200
TZOFFSETTO:+0100
TZNAME:CET
DTSTART:19701025T030000
RRULE:FREQ=YEARLY;INTERVAL=1;BYDAY=-1SU;BYMONTH=10
END:STANDARD
END:VTIMEZONE
BEGIN:VEVENT
DTSTAMP:20260421T005046
DTSTART;TZID=Europe/Berlin:20260325T163000
DTEND;TZID=Europe/Berlin:20260325T180000
UID:V23931010K-20260325T163000@VHSBÖBLINGEN-SINDELFINGEN
SUMMARY:Intuitives Malen: Farben und Gefühle für Kinder von 7 bis 12 Jahren (V23931010K) 
LOCATION:GHH, 205, 2.OG, Böblinger Str. 8, 71065 Sindelfingen
END:VEVENT
BEGIN:VEVENT
DTSTAMP:20260421T005046
DTSTART;TZID=Europe/Berlin:20260415T163000
DTEND;TZID=Europe/Berlin:20260415T180000
UID:V23931010K-20260415T163000@VHSBÖBLINGEN-SINDELFINGEN
SUMMARY:Intuitives Malen: Farben und Gefühle für Kinder von 7 bis 12 Jahren (V23931010K) 
LOCATION:GHH, 205, 2.OG, Böblinger Str. 8, 71065 Sindelfingen
END:VEVENT
BEGIN:VEVENT
DTSTAMP:20260421T005046
DTSTART;TZID=Europe/Berlin:20260422T163000
DTEND;TZID=Europe/Berlin:20260422T180000
UID:V23931010K-20260422T163000@VHSBÖBLINGEN-SINDELFINGEN
SUMMARY:Intuitives Malen: Farben und Gefühle für Kinder von 7 bis 12 Jahren (V23931010K) 
LOCATION:GHH, 205, 2.OG, Böblinger Str. 8, 71065 Sindelfingen
END:VEVENT
BEGIN:VEVENT
DTSTAMP:20260421T005046
DTSTART;TZID=Europe/Berlin:20260429T163000
DTEND;TZID=Europe/Berlin:20260429T180000
UID:V23931010K-20260429T163000@VHSBÖBLINGEN-SINDELFINGEN
SUMMARY:Intuitives Malen: Farben und Gefühle für Kinder von 7 bis 12 Jahren (V23931010K) 
LOCATION:GHH, 205, 2.OG, Böblinger Str. 8, 71065 Sindelfingen
END:VEVENT
END:VCALENDAR