BEGIN:VCALENDAR
VERSION:2.0
PRODID:https://www.kufer.de/kuferweb / DE
METHOD:PUBLISH
CALSCALE:GREGORIAN
X-WR-TIMEZONE:Europe/Berlin
BEGIN:VTIMEZONE
TZID:Europe/Berlin
X-LIC-LOCATION:Europe/Berlin
BEGIN:DAYLIGHT
TZOFFSETFROM:+0100
TZOFFSETTO:+0200
TZNAME:CEST
DTSTART:19700329T020000
RRULE:FREQ=YEARLY;INTERVAL=1;BYDAY=-1SU;BYMONTH=3
END:DAYLIGHT
BEGIN:STANDARD
TZOFFSETFROM:+0200
TZOFFSETTO:+0100
TZNAME:CET
DTSTART:19701025T030000
RRULE:FREQ=YEARLY;INTERVAL=1;BYDAY=-1SU;BYMONTH=10
END:STANDARD
END:VTIMEZONE
BEGIN:VEVENT
DTSTAMP:20260420T215529
DTSTART;TZID=Europe/Berlin:20260613T100000
DTEND;TZID=Europe/Berlin:20260613T120000
UID:V23912010K-20260613T100000@VHSBÖBLINGEN-SINDELFINGEN
SUMMARY:Kunst und Natur für Kinder von 6 bis 10 Jahren (V23912010K) 
LOCATION:GHH, 205, 2.OG, Böblinger Str. 8, 71065 Sindelfingen
END:VEVENT
BEGIN:VEVENT
DTSTAMP:20260420T215529
DTSTART;TZID=Europe/Berlin:20260620T100000
DTEND;TZID=Europe/Berlin:20260620T120000
UID:V23912010K-20260620T100000@VHSBÖBLINGEN-SINDELFINGEN
SUMMARY:Kunst und Natur für Kinder von 6 bis 10 Jahren (V23912010K) 
LOCATION:GHH, 205, 2.OG, Böblinger Str. 8, 71065 Sindelfingen
END:VEVENT
BEGIN:VEVENT
DTSTAMP:20260420T215529
DTSTART;TZID=Europe/Berlin:20260627T100000
DTEND;TZID=Europe/Berlin:20260627T120000
UID:V23912010K-20260627T100000@VHSBÖBLINGEN-SINDELFINGEN
SUMMARY:Kunst und Natur für Kinder von 6 bis 10 Jahren (V23912010K) 
LOCATION:GHH, 205, 2.OG, Böblinger Str. 8, 71065 Sindelfingen
END:VEVENT
BEGIN:VEVENT
DTSTAMP:20260420T215529
DTSTART;TZID=Europe/Berlin:20260704T100000
DTEND;TZID=Europe/Berlin:20260704T120000
UID:V23912010K-20260704T100000@VHSBÖBLINGEN-SINDELFINGEN
SUMMARY:Kunst und Natur für Kinder von 6 bis 10 Jahren (V23912010K) 
LOCATION:GHH, 205, 2.OG, Böblinger Str. 8, 71065 Sindelfingen
END:VEVENT
END:VCALENDAR