BEGIN:VCALENDAR
VERSION:2.0
PRODID:https://www.kufer.de/kuferweb / DE
METHOD:PUBLISH
CALSCALE:GREGORIAN
X-WR-TIMEZONE:Europe/Berlin
BEGIN:VTIMEZONE
TZID:Europe/Berlin
X-LIC-LOCATION:Europe/Berlin
BEGIN:DAYLIGHT
TZOFFSETFROM:+0100
TZOFFSETTO:+0200
TZNAME:CEST
DTSTART:19700329T020000
RRULE:FREQ=YEARLY;INTERVAL=1;BYDAY=-1SU;BYMONTH=3
END:DAYLIGHT
BEGIN:STANDARD
TZOFFSETFROM:+0200
TZOFFSETTO:+0100
TZNAME:CET
DTSTART:19701025T030000
RRULE:FREQ=YEARLY;INTERVAL=1;BYDAY=-1SU;BYMONTH=10
END:STANDARD
END:VTIMEZONE
BEGIN:VEVENT
DTSTAMP:20260420T170618
DTSTART;TZID=Europe/Berlin:20260224T173000
DTEND;TZID=Europe/Berlin:20260224T203000
UID:V23731510-20260224T173000@VHSBÖBLINGEN-SINDELFINGEN
SUMMARY:Ölmalen - vielseitige Technik mit langer Tradition (V23731510) 
LOCATION:GHH, 205, 2.OG, Böblinger Str. 8, 71065 Sindelfingen
END:VEVENT
BEGIN:VEVENT
DTSTAMP:20260420T170618
DTSTART;TZID=Europe/Berlin:20260303T173000
DTEND;TZID=Europe/Berlin:20260303T203000
UID:V23731510-20260303T173000@VHSBÖBLINGEN-SINDELFINGEN
SUMMARY:Ölmalen - vielseitige Technik mit langer Tradition (V23731510) 
LOCATION:GHH, 205, 2.OG, Böblinger Str. 8, 71065 Sindelfingen
END:VEVENT
BEGIN:VEVENT
DTSTAMP:20260420T170618
DTSTART;TZID=Europe/Berlin:20260310T173000
DTEND;TZID=Europe/Berlin:20260310T203000
UID:V23731510-20260310T173000@VHSBÖBLINGEN-SINDELFINGEN
SUMMARY:Ölmalen - vielseitige Technik mit langer Tradition (V23731510) 
LOCATION:GHH, 205, 2.OG, Böblinger Str. 8, 71065 Sindelfingen
END:VEVENT
BEGIN:VEVENT
DTSTAMP:20260420T170618
DTSTART;TZID=Europe/Berlin:20260317T173000
DTEND;TZID=Europe/Berlin:20260317T203000
UID:V23731510-20260317T173000@VHSBÖBLINGEN-SINDELFINGEN
SUMMARY:Ölmalen - vielseitige Technik mit langer Tradition (V23731510) 
LOCATION:GHH, 205, 2.OG, Böblinger Str. 8, 71065 Sindelfingen
END:VEVENT
BEGIN:VEVENT
DTSTAMP:20260420T170618
DTSTART;TZID=Europe/Berlin:20260324T173000
DTEND;TZID=Europe/Berlin:20260324T203000
UID:V23731510-20260324T173000@VHSBÖBLINGEN-SINDELFINGEN
SUMMARY:Ölmalen - vielseitige Technik mit langer Tradition (V23731510) 
LOCATION:GHH, 205, 2.OG, Böblinger Str. 8, 71065 Sindelfingen
END:VEVENT
BEGIN:VEVENT
DTSTAMP:20260420T170618
DTSTART;TZID=Europe/Berlin:20260414T173000
DTEND;TZID=Europe/Berlin:20260414T203000
UID:V23731510-20260414T173000@VHSBÖBLINGEN-SINDELFINGEN
SUMMARY:Ölmalen - vielseitige Technik mit langer Tradition (V23731510) 
LOCATION:GHH, 205, 2.OG, Böblinger Str. 8, 71065 Sindelfingen
END:VEVENT
BEGIN:VEVENT
DTSTAMP:20260420T170618
DTSTART;TZID=Europe/Berlin:20260421T173000
DTEND;TZID=Europe/Berlin:20260421T203000
UID:V23731510-20260421T173000@VHSBÖBLINGEN-SINDELFINGEN
SUMMARY:Ölmalen - vielseitige Technik mit langer Tradition (V23731510) 
LOCATION:GHH, 205, 2.OG, Böblinger Str. 8, 71065 Sindelfingen
END:VEVENT
BEGIN:VEVENT
DTSTAMP:20260420T170618
DTSTART;TZID=Europe/Berlin:20260428T173000
DTEND;TZID=Europe/Berlin:20260428T203000
UID:V23731510-20260428T173000@VHSBÖBLINGEN-SINDELFINGEN
SUMMARY:Ölmalen - vielseitige Technik mit langer Tradition (V23731510) 
LOCATION:GHH, 205, 2.OG, Böblinger Str. 8, 71065 Sindelfingen
END:VEVENT
END:VCALENDAR