BEGIN:VCALENDAR
VERSION:2.0
PRODID:https://www.kufer.de/kuferweb / DE
METHOD:PUBLISH
CALSCALE:GREGORIAN
X-WR-TIMEZONE:Europe/Berlin
BEGIN:VTIMEZONE
TZID:Europe/Berlin
X-LIC-LOCATION:Europe/Berlin
BEGIN:DAYLIGHT
TZOFFSETFROM:+0100
TZOFFSETTO:+0200
TZNAME:CEST
DTSTART:19700329T020000
RRULE:FREQ=YEARLY;INTERVAL=1;BYDAY=-1SU;BYMONTH=3
END:DAYLIGHT
BEGIN:STANDARD
TZOFFSETFROM:+0200
TZOFFSETTO:+0100
TZNAME:CET
DTSTART:19701025T030000
RRULE:FREQ=YEARLY;INTERVAL=1;BYDAY=-1SU;BYMONTH=10
END:STANDARD
END:VTIMEZONE
BEGIN:VEVENT
DTSTAMP:20260420T170613
DTSTART;TZID=Europe/Berlin:20260224T140000
DTEND;TZID=Europe/Berlin:20260224T170000
UID:V23730510-20260224T140000@VHSBÖBLINGEN-SINDELFINGEN
SUMMARY:Ölmalen - vielseitige Technik mit langer Tradition (V23730510) 
LOCATION:GHH, 205, 2.OG, Böblinger Str. 8, 71065 Sindelfingen
END:VEVENT
BEGIN:VEVENT
DTSTAMP:20260420T170613
DTSTART;TZID=Europe/Berlin:20260303T140000
DTEND;TZID=Europe/Berlin:20260303T170000
UID:V23730510-20260303T140000@VHSBÖBLINGEN-SINDELFINGEN
SUMMARY:Ölmalen - vielseitige Technik mit langer Tradition (V23730510) 
LOCATION:GHH, 205, 2.OG, Böblinger Str. 8, 71065 Sindelfingen
END:VEVENT
BEGIN:VEVENT
DTSTAMP:20260420T170613
DTSTART;TZID=Europe/Berlin:20260310T140000
DTEND;TZID=Europe/Berlin:20260310T170000
UID:V23730510-20260310T140000@VHSBÖBLINGEN-SINDELFINGEN
SUMMARY:Ölmalen - vielseitige Technik mit langer Tradition (V23730510) 
LOCATION:GHH, 205, 2.OG, Böblinger Str. 8, 71065 Sindelfingen
END:VEVENT
BEGIN:VEVENT
DTSTAMP:20260420T170613
DTSTART;TZID=Europe/Berlin:20260317T140000
DTEND;TZID=Europe/Berlin:20260317T170000
UID:V23730510-20260317T140000@VHSBÖBLINGEN-SINDELFINGEN
SUMMARY:Ölmalen - vielseitige Technik mit langer Tradition (V23730510) 
LOCATION:GHH, 205, 2.OG, Böblinger Str. 8, 71065 Sindelfingen
END:VEVENT
BEGIN:VEVENT
DTSTAMP:20260420T170613
DTSTART;TZID=Europe/Berlin:20260324T140000
DTEND;TZID=Europe/Berlin:20260324T170000
UID:V23730510-20260324T140000@VHSBÖBLINGEN-SINDELFINGEN
SUMMARY:Ölmalen - vielseitige Technik mit langer Tradition (V23730510) 
LOCATION:GHH, 205, 2.OG, Böblinger Str. 8, 71065 Sindelfingen
END:VEVENT
BEGIN:VEVENT
DTSTAMP:20260420T170613
DTSTART;TZID=Europe/Berlin:20260414T140000
DTEND;TZID=Europe/Berlin:20260414T170000
UID:V23730510-20260414T140000@VHSBÖBLINGEN-SINDELFINGEN
SUMMARY:Ölmalen - vielseitige Technik mit langer Tradition (V23730510) 
LOCATION:GHH, 205, 2.OG, Böblinger Str. 8, 71065 Sindelfingen
END:VEVENT
BEGIN:VEVENT
DTSTAMP:20260420T170613
DTSTART;TZID=Europe/Berlin:20260421T140000
DTEND;TZID=Europe/Berlin:20260421T170000
UID:V23730510-20260421T140000@VHSBÖBLINGEN-SINDELFINGEN
SUMMARY:Ölmalen - vielseitige Technik mit langer Tradition (V23730510) 
LOCATION:GHH, 205, 2.OG, Böblinger Str. 8, 71065 Sindelfingen
END:VEVENT
BEGIN:VEVENT
DTSTAMP:20260420T170613
DTSTART;TZID=Europe/Berlin:20260428T140000
DTEND;TZID=Europe/Berlin:20260428T170000
UID:V23730510-20260428T140000@VHSBÖBLINGEN-SINDELFINGEN
SUMMARY:Ölmalen - vielseitige Technik mit langer Tradition (V23730510) 
LOCATION:GHH, 205, 2.OG, Böblinger Str. 8, 71065 Sindelfingen
END:VEVENT
END:VCALENDAR