BEGIN:VCALENDAR
VERSION:2.0
PRODID:https://www.kufer.de/kuferweb / DE
METHOD:PUBLISH
CALSCALE:GREGORIAN
X-WR-TIMEZONE:Europe/Berlin
BEGIN:VTIMEZONE
TZID:Europe/Berlin
X-LIC-LOCATION:Europe/Berlin
BEGIN:DAYLIGHT
TZOFFSETFROM:+0100
TZOFFSETTO:+0200
TZNAME:CEST
DTSTART:19700329T020000
RRULE:FREQ=YEARLY;INTERVAL=1;BYDAY=-1SU;BYMONTH=3
END:DAYLIGHT
BEGIN:STANDARD
TZOFFSETFROM:+0200
TZOFFSETTO:+0100
TZNAME:CET
DTSTART:19701025T030000
RRULE:FREQ=YEARLY;INTERVAL=1;BYDAY=-1SU;BYMONTH=10
END:STANDARD
END:VTIMEZONE
BEGIN:VEVENT
DTSTAMP:20260421T041608
DTSTART;TZID=Europe/Berlin:20260511T140000
DTEND;TZID=Europe/Berlin:20260511T170000
UID:V23631610-20260511T140000@VHSBÖBLINGEN-SINDELFINGEN
SUMMARY:Malen mit Acrylfarben (V23631610) 
LOCATION:GHH, 207, 2.OG, Böblinger Str. 8, 71065 Sindelfingen
END:VEVENT
BEGIN:VEVENT
DTSTAMP:20260421T041608
DTSTART;TZID=Europe/Berlin:20260518T140000
DTEND;TZID=Europe/Berlin:20260518T170000
UID:V23631610-20260518T140000@VHSBÖBLINGEN-SINDELFINGEN
SUMMARY:Malen mit Acrylfarben (V23631610) 
LOCATION:GHH, 207, 2.OG, Böblinger Str. 8, 71065 Sindelfingen
END:VEVENT
BEGIN:VEVENT
DTSTAMP:20260421T041608
DTSTART;TZID=Europe/Berlin:20260608T140000
DTEND;TZID=Europe/Berlin:20260608T170000
UID:V23631610-20260608T140000@VHSBÖBLINGEN-SINDELFINGEN
SUMMARY:Malen mit Acrylfarben (V23631610) 
LOCATION:GHH, 207, 2.OG, Böblinger Str. 8, 71065 Sindelfingen
END:VEVENT
BEGIN:VEVENT
DTSTAMP:20260421T041608
DTSTART;TZID=Europe/Berlin:20260615T140000
DTEND;TZID=Europe/Berlin:20260615T170000
UID:V23631610-20260615T140000@VHSBÖBLINGEN-SINDELFINGEN
SUMMARY:Malen mit Acrylfarben (V23631610) 
LOCATION:GHH, 207, 2.OG, Böblinger Str. 8, 71065 Sindelfingen
END:VEVENT
BEGIN:VEVENT
DTSTAMP:20260421T041608
DTSTART;TZID=Europe/Berlin:20260622T140000
DTEND;TZID=Europe/Berlin:20260622T170000
UID:V23631610-20260622T140000@VHSBÖBLINGEN-SINDELFINGEN
SUMMARY:Malen mit Acrylfarben (V23631610) 
LOCATION:GHH, 207, 2.OG, Böblinger Str. 8, 71065 Sindelfingen
END:VEVENT
BEGIN:VEVENT
DTSTAMP:20260421T041608
DTSTART;TZID=Europe/Berlin:20260629T140000
DTEND;TZID=Europe/Berlin:20260629T170000
UID:V23631610-20260629T140000@VHSBÖBLINGEN-SINDELFINGEN
SUMMARY:Malen mit Acrylfarben (V23631610) 
LOCATION:GHH, 207, 2.OG, Böblinger Str. 8, 71065 Sindelfingen
END:VEVENT
BEGIN:VEVENT
DTSTAMP:20260421T041608
DTSTART;TZID=Europe/Berlin:20260706T140000
DTEND;TZID=Europe/Berlin:20260706T170000
UID:V23631610-20260706T140000@VHSBÖBLINGEN-SINDELFINGEN
SUMMARY:Malen mit Acrylfarben (V23631610) 
LOCATION:GHH, 207, 2.OG, Böblinger Str. 8, 71065 Sindelfingen
END:VEVENT
BEGIN:VEVENT
DTSTAMP:20260421T041608
DTSTART;TZID=Europe/Berlin:20260713T140000
DTEND;TZID=Europe/Berlin:20260713T170000
UID:V23631610-20260713T140000@VHSBÖBLINGEN-SINDELFINGEN
SUMMARY:Malen mit Acrylfarben (V23631610) 
LOCATION:GHH, 207, 2.OG, Böblinger Str. 8, 71065 Sindelfingen
END:VEVENT
END:VCALENDAR