BEGIN:VCALENDAR
VERSION:2.0
PRODID:https://www.kufer.de/kuferweb / DE
METHOD:PUBLISH
CALSCALE:GREGORIAN
X-WR-TIMEZONE:Europe/Berlin
BEGIN:VTIMEZONE
TZID:Europe/Berlin
X-LIC-LOCATION:Europe/Berlin
BEGIN:DAYLIGHT
TZOFFSETFROM:+0100
TZOFFSETTO:+0200
TZNAME:CEST
DTSTART:19700329T020000
RRULE:FREQ=YEARLY;INTERVAL=1;BYDAY=-1SU;BYMONTH=3
END:DAYLIGHT
BEGIN:STANDARD
TZOFFSETFROM:+0200
TZOFFSETTO:+0100
TZNAME:CET
DTSTART:19701025T030000
RRULE:FREQ=YEARLY;INTERVAL=1;BYDAY=-1SU;BYMONTH=10
END:STANDARD
END:VTIMEZONE
BEGIN:VEVENT
DTSTAMP:20260420T214402
DTSTART;TZID=Europe/Berlin:20260223T140000
DTEND;TZID=Europe/Berlin:20260223T170000
UID:V23631510-20260223T140000@VHSBÖBLINGEN-SINDELFINGEN
SUMMARY:Malen mit Acrylfarben (V23631510) 
LOCATION:GHH, 207, 2.OG, Böblinger Str. 8, 71065 Sindelfingen
END:VEVENT
BEGIN:VEVENT
DTSTAMP:20260420T214402
DTSTART;TZID=Europe/Berlin:20260302T140000
DTEND;TZID=Europe/Berlin:20260302T170000
UID:V23631510-20260302T140000@VHSBÖBLINGEN-SINDELFINGEN
SUMMARY:Malen mit Acrylfarben (V23631510) 
LOCATION:GHH, 207, 2.OG, Böblinger Str. 8, 71065 Sindelfingen
END:VEVENT
BEGIN:VEVENT
DTSTAMP:20260420T214402
DTSTART;TZID=Europe/Berlin:20260309T140000
DTEND;TZID=Europe/Berlin:20260309T170000
UID:V23631510-20260309T140000@VHSBÖBLINGEN-SINDELFINGEN
SUMMARY:Malen mit Acrylfarben (V23631510) 
LOCATION:GHH, 207, 2.OG, Böblinger Str. 8, 71065 Sindelfingen
END:VEVENT
BEGIN:VEVENT
DTSTAMP:20260420T214402
DTSTART;TZID=Europe/Berlin:20260316T140000
DTEND;TZID=Europe/Berlin:20260316T170000
UID:V23631510-20260316T140000@VHSBÖBLINGEN-SINDELFINGEN
SUMMARY:Malen mit Acrylfarben (V23631510) 
LOCATION:GHH, 207, 2.OG, Böblinger Str. 8, 71065 Sindelfingen
END:VEVENT
BEGIN:VEVENT
DTSTAMP:20260420T214402
DTSTART;TZID=Europe/Berlin:20260323T140000
DTEND;TZID=Europe/Berlin:20260323T170000
UID:V23631510-20260323T140000@VHSBÖBLINGEN-SINDELFINGEN
SUMMARY:Malen mit Acrylfarben (V23631510) 
LOCATION:GHH, 207, 2.OG, Böblinger Str. 8, 71065 Sindelfingen
END:VEVENT
BEGIN:VEVENT
DTSTAMP:20260420T214402
DTSTART;TZID=Europe/Berlin:20260413T140000
DTEND;TZID=Europe/Berlin:20260413T170000
UID:V23631510-20260413T140000@VHSBÖBLINGEN-SINDELFINGEN
SUMMARY:Malen mit Acrylfarben (V23631510) 
LOCATION:GHH, 207, 2.OG, Böblinger Str. 8, 71065 Sindelfingen
END:VEVENT
BEGIN:VEVENT
DTSTAMP:20260420T214402
DTSTART;TZID=Europe/Berlin:20260420T140000
DTEND;TZID=Europe/Berlin:20260420T170000
UID:V23631510-20260420T140000@VHSBÖBLINGEN-SINDELFINGEN
SUMMARY:Malen mit Acrylfarben (V23631510) 
LOCATION:GHH, 207, 2.OG, Böblinger Str. 8, 71065 Sindelfingen
END:VEVENT
BEGIN:VEVENT
DTSTAMP:20260420T214402
DTSTART;TZID=Europe/Berlin:20260427T140000
DTEND;TZID=Europe/Berlin:20260427T170000
UID:V23631510-20260427T140000@VHSBÖBLINGEN-SINDELFINGEN
SUMMARY:Malen mit Acrylfarben (V23631510) 
LOCATION:GHH, 207, 2.OG, Böblinger Str. 8, 71065 Sindelfingen
END:VEVENT
END:VCALENDAR