BEGIN:VCALENDAR
VERSION:2.0
PRODID:https://www.kufer.de/kuferweb / DE
METHOD:PUBLISH
CALSCALE:GREGORIAN
X-WR-TIMEZONE:Europe/Berlin
BEGIN:VTIMEZONE
TZID:Europe/Berlin
X-LIC-LOCATION:Europe/Berlin
BEGIN:DAYLIGHT
TZOFFSETFROM:+0100
TZOFFSETTO:+0200
TZNAME:CEST
DTSTART:19700329T020000
RRULE:FREQ=YEARLY;INTERVAL=1;BYDAY=-1SU;BYMONTH=3
END:DAYLIGHT
BEGIN:STANDARD
TZOFFSETFROM:+0200
TZOFFSETTO:+0100
TZNAME:CET
DTSTART:19701025T030000
RRULE:FREQ=YEARLY;INTERVAL=1;BYDAY=-1SU;BYMONTH=10
END:STANDARD
END:VTIMEZONE
BEGIN:VEVENT
DTSTAMP:20260421T060813
DTSTART;TZID=Europe/Berlin:20260306T170000
DTEND;TZID=Europe/Berlin:20260306T193000
UID:V23535110-20260306T170000@VHSBÖBLINGEN-SINDELFINGEN
SUMMARY:Aquarell & Acryl 2 Techniken - 1 Kurs (V23535110) 
LOCATION:GHH, 207, 2.OG, Böblinger Str. 8, 71065 Sindelfingen
END:VEVENT
BEGIN:VEVENT
DTSTAMP:20260421T060813
DTSTART;TZID=Europe/Berlin:20260313T170000
DTEND;TZID=Europe/Berlin:20260313T193000
UID:V23535110-20260313T170000@VHSBÖBLINGEN-SINDELFINGEN
SUMMARY:Aquarell & Acryl 2 Techniken - 1 Kurs (V23535110) 
LOCATION:GHH, 207, 2.OG, Böblinger Str. 8, 71065 Sindelfingen
END:VEVENT
BEGIN:VEVENT
DTSTAMP:20260421T060813
DTSTART;TZID=Europe/Berlin:20260320T170000
DTEND;TZID=Europe/Berlin:20260320T193000
UID:V23535110-20260320T170000@VHSBÖBLINGEN-SINDELFINGEN
SUMMARY:Aquarell & Acryl 2 Techniken - 1 Kurs (V23535110) 
LOCATION:GHH, 207, 2.OG, Böblinger Str. 8, 71065 Sindelfingen
END:VEVENT
BEGIN:VEVENT
DTSTAMP:20260421T060813
DTSTART;TZID=Europe/Berlin:20260327T170000
DTEND;TZID=Europe/Berlin:20260327T193000
UID:V23535110-20260327T170000@VHSBÖBLINGEN-SINDELFINGEN
SUMMARY:Aquarell & Acryl 2 Techniken - 1 Kurs (V23535110) 
LOCATION:GHH, 207, 2.OG, Böblinger Str. 8, 71065 Sindelfingen
END:VEVENT
BEGIN:VEVENT
DTSTAMP:20260421T060813
DTSTART;TZID=Europe/Berlin:20260417T170000
DTEND;TZID=Europe/Berlin:20260417T193000
UID:V23535110-20260417T170000@VHSBÖBLINGEN-SINDELFINGEN
SUMMARY:Aquarell & Acryl 2 Techniken - 1 Kurs (V23535110) 
LOCATION:GHH, 207, 2.OG, Böblinger Str. 8, 71065 Sindelfingen
END:VEVENT
BEGIN:VEVENT
DTSTAMP:20260421T060813
DTSTART;TZID=Europe/Berlin:20260424T170000
DTEND;TZID=Europe/Berlin:20260424T193000
UID:V23535110-20260424T170000@VHSBÖBLINGEN-SINDELFINGEN
SUMMARY:Aquarell & Acryl 2 Techniken - 1 Kurs (V23535110) 
LOCATION:GHH, 207, 2.OG, Böblinger Str. 8, 71065 Sindelfingen
END:VEVENT
BEGIN:VEVENT
DTSTAMP:20260421T060813
DTSTART;TZID=Europe/Berlin:20260508T170000
DTEND;TZID=Europe/Berlin:20260508T193000
UID:V23535110-20260508T170000@VHSBÖBLINGEN-SINDELFINGEN
SUMMARY:Aquarell & Acryl 2 Techniken - 1 Kurs (V23535110) 
LOCATION:GHH, 207, 2.OG, Böblinger Str. 8, 71065 Sindelfingen
END:VEVENT
END:VCALENDAR