BEGIN:VCALENDAR
VERSION:2.0
PRODID:https://www.kufer.de/kuferweb / DE
METHOD:PUBLISH
CALSCALE:GREGORIAN
X-WR-TIMEZONE:Europe/Berlin
BEGIN:VTIMEZONE
TZID:Europe/Berlin
X-LIC-LOCATION:Europe/Berlin
BEGIN:DAYLIGHT
TZOFFSETFROM:+0100
TZOFFSETTO:+0200
TZNAME:CEST
DTSTART:19700329T020000
RRULE:FREQ=YEARLY;INTERVAL=1;BYDAY=-1SU;BYMONTH=3
END:DAYLIGHT
BEGIN:STANDARD
TZOFFSETFROM:+0200
TZOFFSETTO:+0100
TZNAME:CET
DTSTART:19701025T030000
RRULE:FREQ=YEARLY;INTERVAL=1;BYDAY=-1SU;BYMONTH=10
END:STANDARD
END:VTIMEZONE
BEGIN:VEVENT
DTSTAMP:20260421T005642
DTSTART;TZID=Europe/Berlin:20260512T093000
DTEND;TZID=Europe/Berlin:20260512T120000
UID:V23532310-20260512T093000@VHSBÖBLINGEN-SINDELFINGEN
SUMMARY:Aquarellmalen - Gestalten mit Wasser und Farbe (V23532310) 
LOCATION:GHH, 205, 2.OG, Böblinger Str. 8, 71065 Sindelfingen
END:VEVENT
BEGIN:VEVENT
DTSTAMP:20260421T005642
DTSTART;TZID=Europe/Berlin:20260519T093000
DTEND;TZID=Europe/Berlin:20260519T120000
UID:V23532310-20260519T093000@VHSBÖBLINGEN-SINDELFINGEN
SUMMARY:Aquarellmalen - Gestalten mit Wasser und Farbe (V23532310) 
LOCATION:GHH, 205, 2.OG, Böblinger Str. 8, 71065 Sindelfingen
END:VEVENT
BEGIN:VEVENT
DTSTAMP:20260421T005642
DTSTART;TZID=Europe/Berlin:20260609T093000
DTEND;TZID=Europe/Berlin:20260609T120000
UID:V23532310-20260609T093000@VHSBÖBLINGEN-SINDELFINGEN
SUMMARY:Aquarellmalen - Gestalten mit Wasser und Farbe (V23532310) 
LOCATION:GHH, 205, 2.OG, Böblinger Str. 8, 71065 Sindelfingen
END:VEVENT
BEGIN:VEVENT
DTSTAMP:20260421T005642
DTSTART;TZID=Europe/Berlin:20260616T093000
DTEND;TZID=Europe/Berlin:20260616T120000
UID:V23532310-20260616T093000@VHSBÖBLINGEN-SINDELFINGEN
SUMMARY:Aquarellmalen - Gestalten mit Wasser und Farbe (V23532310) 
LOCATION:GHH, 205, 2.OG, Böblinger Str. 8, 71065 Sindelfingen
END:VEVENT
BEGIN:VEVENT
DTSTAMP:20260421T005642
DTSTART;TZID=Europe/Berlin:20260623T093000
DTEND;TZID=Europe/Berlin:20260623T120000
UID:V23532310-20260623T093000@VHSBÖBLINGEN-SINDELFINGEN
SUMMARY:Aquarellmalen - Gestalten mit Wasser und Farbe (V23532310) 
LOCATION:GHH, 205, 2.OG, Böblinger Str. 8, 71065 Sindelfingen
END:VEVENT
BEGIN:VEVENT
DTSTAMP:20260421T005642
DTSTART;TZID=Europe/Berlin:20260630T093000
DTEND;TZID=Europe/Berlin:20260630T120000
UID:V23532310-20260630T093000@VHSBÖBLINGEN-SINDELFINGEN
SUMMARY:Aquarellmalen - Gestalten mit Wasser und Farbe (V23532310) 
LOCATION:GHH, 205, 2.OG, Böblinger Str. 8, 71065 Sindelfingen
END:VEVENT
BEGIN:VEVENT
DTSTAMP:20260421T005642
DTSTART;TZID=Europe/Berlin:20260707T093000
DTEND;TZID=Europe/Berlin:20260707T120000
UID:V23532310-20260707T093000@VHSBÖBLINGEN-SINDELFINGEN
SUMMARY:Aquarellmalen - Gestalten mit Wasser und Farbe (V23532310) 
LOCATION:GHH, 205, 2.OG, Böblinger Str. 8, 71065 Sindelfingen
END:VEVENT
BEGIN:VEVENT
DTSTAMP:20260421T005642
DTSTART;TZID=Europe/Berlin:20260714T093000
DTEND;TZID=Europe/Berlin:20260714T120000
UID:V23532310-20260714T093000@VHSBÖBLINGEN-SINDELFINGEN
SUMMARY:Aquarellmalen - Gestalten mit Wasser und Farbe (V23532310) 
LOCATION:GHH, 205, 2.OG, Böblinger Str. 8, 71065 Sindelfingen
END:VEVENT
END:VCALENDAR