BEGIN:VCALENDAR
VERSION:2.0
PRODID:https://www.kufer.de/kuferweb / DE
METHOD:PUBLISH
CALSCALE:GREGORIAN
X-WR-TIMEZONE:Europe/Berlin
BEGIN:VTIMEZONE
TZID:Europe/Berlin
X-LIC-LOCATION:Europe/Berlin
BEGIN:DAYLIGHT
TZOFFSETFROM:+0100
TZOFFSETTO:+0200
TZNAME:CEST
DTSTART:19700329T020000
RRULE:FREQ=YEARLY;INTERVAL=1;BYDAY=-1SU;BYMONTH=3
END:DAYLIGHT
BEGIN:STANDARD
TZOFFSETFROM:+0200
TZOFFSETTO:+0100
TZNAME:CET
DTSTART:19701025T030000
RRULE:FREQ=YEARLY;INTERVAL=1;BYDAY=-1SU;BYMONTH=10
END:STANDARD
END:VTIMEZONE
BEGIN:VEVENT
DTSTAMP:20260421T022826
DTSTART;TZID=Europe/Berlin:20260224T093000
DTEND;TZID=Europe/Berlin:20260224T120000
UID:V23532210-20260224T093000@VHSBÖBLINGEN-SINDELFINGEN
SUMMARY:Aquarellmalen - Gestalten mit Wasser und Farbe (V23532210) 
LOCATION:GHH, 205, 2.OG, Böblinger Str. 8, 71065 Sindelfingen
END:VEVENT
BEGIN:VEVENT
DTSTAMP:20260421T022826
DTSTART;TZID=Europe/Berlin:20260303T093000
DTEND;TZID=Europe/Berlin:20260303T120000
UID:V23532210-20260303T093000@VHSBÖBLINGEN-SINDELFINGEN
SUMMARY:Aquarellmalen - Gestalten mit Wasser und Farbe (V23532210) 
LOCATION:GHH, 205, 2.OG, Böblinger Str. 8, 71065 Sindelfingen
END:VEVENT
BEGIN:VEVENT
DTSTAMP:20260421T022826
DTSTART;TZID=Europe/Berlin:20260310T093000
DTEND;TZID=Europe/Berlin:20260310T120000
UID:V23532210-20260310T093000@VHSBÖBLINGEN-SINDELFINGEN
SUMMARY:Aquarellmalen - Gestalten mit Wasser und Farbe (V23532210) 
LOCATION:GHH, 205, 2.OG, Böblinger Str. 8, 71065 Sindelfingen
END:VEVENT
BEGIN:VEVENT
DTSTAMP:20260421T022826
DTSTART;TZID=Europe/Berlin:20260317T093000
DTEND;TZID=Europe/Berlin:20260317T120000
UID:V23532210-20260317T093000@VHSBÖBLINGEN-SINDELFINGEN
SUMMARY:Aquarellmalen - Gestalten mit Wasser und Farbe (V23532210) 
LOCATION:GHH, 205, 2.OG, Böblinger Str. 8, 71065 Sindelfingen
END:VEVENT
BEGIN:VEVENT
DTSTAMP:20260421T022826
DTSTART;TZID=Europe/Berlin:20260324T093000
DTEND;TZID=Europe/Berlin:20260324T120000
UID:V23532210-20260324T093000@VHSBÖBLINGEN-SINDELFINGEN
SUMMARY:Aquarellmalen - Gestalten mit Wasser und Farbe (V23532210) 
LOCATION:GHH, 205, 2.OG, Böblinger Str. 8, 71065 Sindelfingen
END:VEVENT
BEGIN:VEVENT
DTSTAMP:20260421T022826
DTSTART;TZID=Europe/Berlin:20260414T093000
DTEND;TZID=Europe/Berlin:20260414T120000
UID:V23532210-20260414T093000@VHSBÖBLINGEN-SINDELFINGEN
SUMMARY:Aquarellmalen - Gestalten mit Wasser und Farbe (V23532210) 
LOCATION:GHH, 205, 2.OG, Böblinger Str. 8, 71065 Sindelfingen
END:VEVENT
BEGIN:VEVENT
DTSTAMP:20260421T022826
DTSTART;TZID=Europe/Berlin:20260421T093000
DTEND;TZID=Europe/Berlin:20260421T120000
UID:V23532210-20260421T093000@VHSBÖBLINGEN-SINDELFINGEN
SUMMARY:Aquarellmalen - Gestalten mit Wasser und Farbe (V23532210) 
LOCATION:GHH, 205, 2.OG, Böblinger Str. 8, 71065 Sindelfingen
END:VEVENT
BEGIN:VEVENT
DTSTAMP:20260421T022826
DTSTART;TZID=Europe/Berlin:20260428T093000
DTEND;TZID=Europe/Berlin:20260428T120000
UID:V23532210-20260428T093000@VHSBÖBLINGEN-SINDELFINGEN
SUMMARY:Aquarellmalen - Gestalten mit Wasser und Farbe (V23532210) 
LOCATION:GHH, 205, 2.OG, Böblinger Str. 8, 71065 Sindelfingen
END:VEVENT
END:VCALENDAR