BEGIN:VCALENDAR
VERSION:2.0
PRODID:https://www.kufer.de/kuferweb / DE
METHOD:PUBLISH
CALSCALE:GREGORIAN
X-WR-TIMEZONE:Europe/Berlin
BEGIN:VTIMEZONE
TZID:Europe/Berlin
X-LIC-LOCATION:Europe/Berlin
BEGIN:DAYLIGHT
TZOFFSETFROM:+0100
TZOFFSETTO:+0200
TZNAME:CEST
DTSTART:19700329T020000
RRULE:FREQ=YEARLY;INTERVAL=1;BYDAY=-1SU;BYMONTH=3
END:DAYLIGHT
BEGIN:STANDARD
TZOFFSETFROM:+0200
TZOFFSETTO:+0100
TZNAME:CET
DTSTART:19701025T030000
RRULE:FREQ=YEARLY;INTERVAL=1;BYDAY=-1SU;BYMONTH=10
END:STANDARD
END:VTIMEZONE
BEGIN:VEVENT
DTSTAMP:20260420T152612
DTSTART;TZID=Europe/Berlin:20260223T093000
DTEND;TZID=Europe/Berlin:20260223T120000
UID:V23532010-20260223T093000@VHSBÖBLINGEN-SINDELFINGEN
SUMMARY:Aquarellmalen - Gestalten mit Wasser und Farbe (V23532010) 
LOCATION:GHH, 205, 2.OG, Böblinger Str. 8, 71065 Sindelfingen
END:VEVENT
BEGIN:VEVENT
DTSTAMP:20260420T152612
DTSTART;TZID=Europe/Berlin:20260302T093000
DTEND;TZID=Europe/Berlin:20260302T120000
UID:V23532010-20260302T093000@VHSBÖBLINGEN-SINDELFINGEN
SUMMARY:Aquarellmalen - Gestalten mit Wasser und Farbe (V23532010) 
LOCATION:GHH, 205, 2.OG, Böblinger Str. 8, 71065 Sindelfingen
END:VEVENT
BEGIN:VEVENT
DTSTAMP:20260420T152612
DTSTART;TZID=Europe/Berlin:20260309T093000
DTEND;TZID=Europe/Berlin:20260309T120000
UID:V23532010-20260309T093000@VHSBÖBLINGEN-SINDELFINGEN
SUMMARY:Aquarellmalen - Gestalten mit Wasser und Farbe (V23532010) 
LOCATION:GHH, 205, 2.OG, Böblinger Str. 8, 71065 Sindelfingen
END:VEVENT
BEGIN:VEVENT
DTSTAMP:20260420T152612
DTSTART;TZID=Europe/Berlin:20260316T093000
DTEND;TZID=Europe/Berlin:20260316T120000
UID:V23532010-20260316T093000@VHSBÖBLINGEN-SINDELFINGEN
SUMMARY:Aquarellmalen - Gestalten mit Wasser und Farbe (V23532010) 
LOCATION:GHH, 205, 2.OG, Böblinger Str. 8, 71065 Sindelfingen
END:VEVENT
BEGIN:VEVENT
DTSTAMP:20260420T152612
DTSTART;TZID=Europe/Berlin:20260323T093000
DTEND;TZID=Europe/Berlin:20260323T120000
UID:V23532010-20260323T093000@VHSBÖBLINGEN-SINDELFINGEN
SUMMARY:Aquarellmalen - Gestalten mit Wasser und Farbe (V23532010) 
LOCATION:GHH, 205, 2.OG, Böblinger Str. 8, 71065 Sindelfingen
END:VEVENT
BEGIN:VEVENT
DTSTAMP:20260420T152612
DTSTART;TZID=Europe/Berlin:20260413T093000
DTEND;TZID=Europe/Berlin:20260413T120000
UID:V23532010-20260413T093000@VHSBÖBLINGEN-SINDELFINGEN
SUMMARY:Aquarellmalen - Gestalten mit Wasser und Farbe (V23532010) 
LOCATION:GHH, 205, 2.OG, Böblinger Str. 8, 71065 Sindelfingen
END:VEVENT
BEGIN:VEVENT
DTSTAMP:20260420T152612
DTSTART;TZID=Europe/Berlin:20260420T093000
DTEND;TZID=Europe/Berlin:20260420T120000
UID:V23532010-20260420T093000@VHSBÖBLINGEN-SINDELFINGEN
SUMMARY:Aquarellmalen - Gestalten mit Wasser und Farbe (V23532010) 
LOCATION:GHH, 205, 2.OG, Böblinger Str. 8, 71065 Sindelfingen
END:VEVENT
BEGIN:VEVENT
DTSTAMP:20260420T152612
DTSTART;TZID=Europe/Berlin:20260427T093000
DTEND;TZID=Europe/Berlin:20260427T120000
UID:V23532010-20260427T093000@VHSBÖBLINGEN-SINDELFINGEN
SUMMARY:Aquarellmalen - Gestalten mit Wasser und Farbe (V23532010) 
LOCATION:GHH, 205, 2.OG, Böblinger Str. 8, 71065 Sindelfingen
END:VEVENT
END:VCALENDAR