BEGIN:VCALENDAR
VERSION:2.0
PRODID:https://www.kufer.de/kuferweb / DE
METHOD:PUBLISH
CALSCALE:GREGORIAN
X-WR-TIMEZONE:Europe/Berlin
BEGIN:VTIMEZONE
TZID:Europe/Berlin
X-LIC-LOCATION:Europe/Berlin
BEGIN:DAYLIGHT
TZOFFSETFROM:+0100
TZOFFSETTO:+0200
TZNAME:CEST
DTSTART:19700329T020000
RRULE:FREQ=YEARLY;INTERVAL=1;BYDAY=-1SU;BYMONTH=3
END:DAYLIGHT
BEGIN:STANDARD
TZOFFSETFROM:+0200
TZOFFSETTO:+0100
TZNAME:CET
DTSTART:19701025T030000
RRULE:FREQ=YEARLY;INTERVAL=1;BYDAY=-1SU;BYMONTH=10
END:STANDARD
END:VTIMEZONE
BEGIN:VEVENT
DTSTAMP:20260421T152258
DTSTART;TZID=Europe/Berlin:20260505T091500
DTEND;TZID=Europe/Berlin:20260505T114500
UID:V23531210-20260505T091500@VHSBÖBLINGEN-SINDELFINGEN
SUMMARY:Aquarellmalen - Gestalten mit Wasser und Farbe (V23531210) 
LOCATION:Höfle, 105, 1. OG, Pestalozzistr. 4, 71032 Böblingen
END:VEVENT
BEGIN:VEVENT
DTSTAMP:20260421T152258
DTSTART;TZID=Europe/Berlin:20260512T091500
DTEND;TZID=Europe/Berlin:20260512T114500
UID:V23531210-20260512T091500@VHSBÖBLINGEN-SINDELFINGEN
SUMMARY:Aquarellmalen - Gestalten mit Wasser und Farbe (V23531210) 
LOCATION:Höfle, 105, 1. OG, Pestalozzistr. 4, 71032 Böblingen
END:VEVENT
BEGIN:VEVENT
DTSTAMP:20260421T152258
DTSTART;TZID=Europe/Berlin:20260519T091500
DTEND;TZID=Europe/Berlin:20260519T114500
UID:V23531210-20260519T091500@VHSBÖBLINGEN-SINDELFINGEN
SUMMARY:Aquarellmalen - Gestalten mit Wasser und Farbe (V23531210) 
LOCATION:Höfle, 105, 1. OG, Pestalozzistr. 4, 71032 Böblingen
END:VEVENT
BEGIN:VEVENT
DTSTAMP:20260421T152258
DTSTART;TZID=Europe/Berlin:20260623T091500
DTEND;TZID=Europe/Berlin:20260623T114500
UID:V23531210-20260623T091500@VHSBÖBLINGEN-SINDELFINGEN
SUMMARY:Aquarellmalen - Gestalten mit Wasser und Farbe (V23531210) 
LOCATION:Höfle, 105, 1. OG, Pestalozzistr. 4, 71032 Böblingen
END:VEVENT
BEGIN:VEVENT
DTSTAMP:20260421T152258
DTSTART;TZID=Europe/Berlin:20260630T091500
DTEND;TZID=Europe/Berlin:20260630T114500
UID:V23531210-20260630T091500@VHSBÖBLINGEN-SINDELFINGEN
SUMMARY:Aquarellmalen - Gestalten mit Wasser und Farbe (V23531210) 
LOCATION:Höfle, 105, 1. OG, Pestalozzistr. 4, 71032 Böblingen
END:VEVENT
BEGIN:VEVENT
DTSTAMP:20260421T152258
DTSTART;TZID=Europe/Berlin:20260707T091500
DTEND;TZID=Europe/Berlin:20260707T114500
UID:V23531210-20260707T091500@VHSBÖBLINGEN-SINDELFINGEN
SUMMARY:Aquarellmalen - Gestalten mit Wasser und Farbe (V23531210) 
LOCATION:Höfle, 105, 1. OG, Pestalozzistr. 4, 71032 Böblingen
END:VEVENT
BEGIN:VEVENT
DTSTAMP:20260421T152258
DTSTART;TZID=Europe/Berlin:20260714T091500
DTEND;TZID=Europe/Berlin:20260714T114500
UID:V23531210-20260714T091500@VHSBÖBLINGEN-SINDELFINGEN
SUMMARY:Aquarellmalen - Gestalten mit Wasser und Farbe (V23531210) 
LOCATION:Höfle, 105, 1. OG, Pestalozzistr. 4, 71032 Böblingen
END:VEVENT
END:VCALENDAR