BEGIN:VCALENDAR
VERSION:2.0
PRODID:https://www.kufer.de/kuferweb / DE
METHOD:PUBLISH
CALSCALE:GREGORIAN
X-WR-TIMEZONE:Europe/Berlin
BEGIN:VTIMEZONE
TZID:Europe/Berlin
X-LIC-LOCATION:Europe/Berlin
BEGIN:DAYLIGHT
TZOFFSETFROM:+0100
TZOFFSETTO:+0200
TZNAME:CEST
DTSTART:19700329T020000
RRULE:FREQ=YEARLY;INTERVAL=1;BYDAY=-1SU;BYMONTH=3
END:DAYLIGHT
BEGIN:STANDARD
TZOFFSETFROM:+0200
TZOFFSETTO:+0100
TZNAME:CET
DTSTART:19701025T030000
RRULE:FREQ=YEARLY;INTERVAL=1;BYDAY=-1SU;BYMONTH=10
END:STANDARD
END:VTIMEZONE
BEGIN:VEVENT
DTSTAMP:20260421T191801
DTSTART;TZID=Europe/Berlin:20260424T180000
DTEND;TZID=Europe/Berlin:20260424T203000
UID:V23240121-20260424T180000@VHSBÖBLINGEN-SINDELFINGEN
SUMMARY:Zeichnen für Fortgeschrittene (V23240121) 
LOCATION:HO, Haus am Ziegelhof, Eingang: Betreutes Wohnen, vhs-Seminarraum, Eberhardstr. 21, 71088 Holzgerlingen
END:VEVENT
BEGIN:VEVENT
DTSTAMP:20260421T191801
DTSTART;TZID=Europe/Berlin:20260508T180000
DTEND;TZID=Europe/Berlin:20260508T203000
UID:V23240121-20260508T180000@VHSBÖBLINGEN-SINDELFINGEN
SUMMARY:Zeichnen für Fortgeschrittene (V23240121) 
LOCATION:HO, Haus am Ziegelhof, Eingang: Betreutes Wohnen, vhs-Seminarraum, Eberhardstr. 21, 71088 Holzgerlingen
END:VEVENT
BEGIN:VEVENT
DTSTAMP:20260421T191801
DTSTART;TZID=Europe/Berlin:20260522T180000
DTEND;TZID=Europe/Berlin:20260522T203000
UID:V23240121-20260522T180000@VHSBÖBLINGEN-SINDELFINGEN
SUMMARY:Zeichnen für Fortgeschrittene (V23240121) 
LOCATION:HO, Haus am Ziegelhof, Eingang: Betreutes Wohnen, vhs-Seminarraum, Eberhardstr. 21, 71088 Holzgerlingen
END:VEVENT
BEGIN:VEVENT
DTSTAMP:20260421T191801
DTSTART;TZID=Europe/Berlin:20260612T180000
DTEND;TZID=Europe/Berlin:20260612T203000
UID:V23240121-20260612T180000@VHSBÖBLINGEN-SINDELFINGEN
SUMMARY:Zeichnen für Fortgeschrittene (V23240121) 
LOCATION:HO, Haus am Ziegelhof, Eingang: Betreutes Wohnen, vhs-Seminarraum, Eberhardstr. 21, 71088 Holzgerlingen
END:VEVENT
BEGIN:VEVENT
DTSTAMP:20260421T191801
DTSTART;TZID=Europe/Berlin:20260619T180000
DTEND;TZID=Europe/Berlin:20260619T203000
UID:V23240121-20260619T180000@VHSBÖBLINGEN-SINDELFINGEN
SUMMARY:Zeichnen für Fortgeschrittene (V23240121) 
LOCATION:HO, Haus am Ziegelhof, Eingang: Betreutes Wohnen, vhs-Seminarraum, Eberhardstr. 21, 71088 Holzgerlingen
END:VEVENT
BEGIN:VEVENT
DTSTAMP:20260421T191801
DTSTART;TZID=Europe/Berlin:20260626T180000
DTEND;TZID=Europe/Berlin:20260626T203000
UID:V23240121-20260626T180000@VHSBÖBLINGEN-SINDELFINGEN
SUMMARY:Zeichnen für Fortgeschrittene (V23240121) 
LOCATION:HO, Haus am Ziegelhof, Eingang: Betreutes Wohnen, vhs-Seminarraum, Eberhardstr. 21, 71088 Holzgerlingen
END:VEVENT
END:VCALENDAR