BEGIN:VCALENDAR
VERSION:2.0
PRODID:https://www.kufer.de/kuferweb / DE
METHOD:PUBLISH
CALSCALE:GREGORIAN
X-WR-TIMEZONE:Europe/Berlin
BEGIN:VTIMEZONE
TZID:Europe/Berlin
X-LIC-LOCATION:Europe/Berlin
BEGIN:DAYLIGHT
TZOFFSETFROM:+0100
TZOFFSETTO:+0200
TZNAME:CEST
DTSTART:19700329T020000
RRULE:FREQ=YEARLY;INTERVAL=1;BYDAY=-1SU;BYMONTH=3
END:DAYLIGHT
BEGIN:STANDARD
TZOFFSETFROM:+0200
TZOFFSETTO:+0100
TZNAME:CET
DTSTART:19701025T030000
RRULE:FREQ=YEARLY;INTERVAL=1;BYDAY=-1SU;BYMONTH=10
END:STANDARD
END:VTIMEZONE
BEGIN:VEVENT
DTSTAMP:20260420T202246
DTSTART;TZID=Europe/Berlin:20260319T194500
DTEND;TZID=Europe/Berlin:20260319T214500
UID:V17000110-20260319T194500@VHSBÖBLINGEN-SINDELFINGEN
SUMMARY:ADHS-Gesprächskreis für Erwachsene (V17000110) 
LOCATION:Höfle, 003, EG, Pestalozzistr. 4, 71032 Böblingen
END:VEVENT
BEGIN:VEVENT
DTSTAMP:20260420T202246
DTSTART;TZID=Europe/Berlin:20260416T194500
DTEND;TZID=Europe/Berlin:20260416T214500
UID:V17000110-20260416T194500@VHSBÖBLINGEN-SINDELFINGEN
SUMMARY:ADHS-Gesprächskreis für Erwachsene (V17000110) 
LOCATION:Höfle, 003, EG, Pestalozzistr. 4, 71032 Böblingen
END:VEVENT
BEGIN:VEVENT
DTSTAMP:20260420T202246
DTSTART;TZID=Europe/Berlin:20260521T194500
DTEND;TZID=Europe/Berlin:20260521T214500
UID:V17000110-20260521T194500@VHSBÖBLINGEN-SINDELFINGEN
SUMMARY:ADHS-Gesprächskreis für Erwachsene (V17000110) 
LOCATION:Höfle, 003, EG, Pestalozzistr. 4, 71032 Böblingen
END:VEVENT
BEGIN:VEVENT
DTSTAMP:20260420T202246
DTSTART;TZID=Europe/Berlin:20260618T194500
DTEND;TZID=Europe/Berlin:20260618T214500
UID:V17000110-20260618T194500@VHSBÖBLINGEN-SINDELFINGEN
SUMMARY:ADHS-Gesprächskreis für Erwachsene (V17000110) 
LOCATION:Höfle, 003, EG, Pestalozzistr. 4, 71032 Böblingen
END:VEVENT
BEGIN:VEVENT
DTSTAMP:20260420T202246
DTSTART;TZID=Europe/Berlin:20260716T194500
DTEND;TZID=Europe/Berlin:20260716T214500
UID:V17000110-20260716T194500@VHSBÖBLINGEN-SINDELFINGEN
SUMMARY:ADHS-Gesprächskreis für Erwachsene (V17000110) 
LOCATION:Höfle, 003, EG, Pestalozzistr. 4, 71032 Böblingen
END:VEVENT
END:VCALENDAR